Back to Multiple platform build/check report for BioC 3.12 |
|
This page was generated on 2021-01-17 11:55:18 -0500 (Sun, 17 Jan 2021).
TO THE DEVELOPERS/MAINTAINERS OF THE ChIC PACKAGE: Please make sure to use the following settings in order to reproduce any error or warning you see on this page. |
Package 278/1974 | Hostname | OS / Arch | INSTALL | BUILD | CHECK | BUILD BIN | ||||||
ChIC 1.10.0 Carmen Maria Livi
| malbec1 | Linux (Ubuntu 18.04.5 LTS) / x86_64 | OK | OK | OK | ![]() | ||||||
nebbiolo1 | Linux (Ubuntu 20.04.1 LTS) / x86_64 | OK | OK | OK | ||||||||
tokay1 | Windows Server 2012 R2 Standard / x64 | ...NOT SUPPORTED... | ||||||||||
merida1 | macOS 10.14.6 Mojave / x86_64 | OK | OK | OK | [ OK ] | ![]() |
Package: ChIC |
Version: 1.10.0 |
Command: rm -rf ChIC.buildbin-libdir && mkdir ChIC.buildbin-libdir && /Users/biocbuild/BBS/utils/build-universal.sh ChIC_1.10.0.tar.gz /Library/Frameworks/R.framework/Versions/Current/Resources/bin/R ChIC.buildbin-libdir |
StartedAt: 2021-01-17 07:53:49 -0500 (Sun, 17 Jan 2021) |
EndedAt: 2021-01-17 07:54:48 -0500 (Sun, 17 Jan 2021) |
EllapsedTime: 59.6 seconds |
RetCode: 0 |
Status: OK |
PackageFile: ChIC_1.10.0.tgz |
PackageFileSize: 799.2 KiB |
############################################################################## ############################################################################## ### ### Running command: ### ### rm -rf ChIC.buildbin-libdir && mkdir ChIC.buildbin-libdir && /Users/biocbuild/BBS/utils/build-universal.sh ChIC_1.10.0.tar.gz /Library/Frameworks/R.framework/Versions/Current/Resources/bin/R ChIC.buildbin-libdir ### ############################################################################## ############################################################################## >>>>>>> >>>>>>> INSTALLATION WITH 'R CMD INSTALL --preclean --no-multiarch --library=ChIC.buildbin-libdir ChIC_1.10.0.tar.gz' >>>>>>> * installing *source* package ‘ChIC’ ... ** using staged installation ** R ** inst ** byte-compile and prepare package for lazy loading ** help *** installing help indices ** building package indices ** installing vignettes ** testing if installed package can be loaded from temporary location ** testing if installed package can be loaded from final location ** testing if installed package keeps a record of temporary installation path * DONE (ChIC)