Back to Multiple platform build/check report for BioC 3.12
A[B]CDEFGHIJKLMNOPQRSTUVWXYZ

BUILD BIN report for BEclear on tokay1

This page was generated on 2020-09-21 11:13:44 -0400 (Mon, 21 Sep 2020).

TO THE DEVELOPERS/MAINTAINERS OF THE BEclear PACKAGE: Please make sure to use the following settings in order to reproduce any error or warning you see on this page.
Package 132/1912HostnameOS / ArchINSTALLBUILDCHECKBUILD BIN
BEclear 2.5.0
David Rasp
Snapshot Date: 2020-09-20 14:41:51 -0400 (Sun, 20 Sep 2020)
URL: https://git.bioconductor.org/packages/BEclear
Branch: master
Last Commit: 89d633c
Last Changed Date: 2020-05-05 03:54:26 -0400 (Tue, 05 May 2020)
malbec1 Linux (Ubuntu 18.04.4 LTS) / x86_64  OK  OK  WARNINGS UNNEEDED, same version exists in internal repository
nebbiolo1 Linux (Ubuntu 20.04.1 LTS) / x86_64  OK  OK  WARNINGS 
tokay1 Windows Server 2012 R2 Standard / x64  OK  OK  WARNINGS [ OK ]UNNEEDED, same version exists in internal repository
riesling1 Windows Server 2019 Standard / x64  OK  OK  WARNINGS  OK 
merida1 macOS 10.14.6 Mojave / x86_64  OK  OK  WARNINGS  OK UNNEEDED, same version exists in internal repository

Summary

Package: BEclear
Version: 2.5.0
Command: rm -rf BEclear.buildbin-libdir && mkdir BEclear.buildbin-libdir && C:\Users\biocbuild\bbs-3.12-bioc\R\bin\R.exe CMD INSTALL --merge-multiarch --build --library=BEclear.buildbin-libdir BEclear_2.5.0.tar.gz
StartedAt: 2020-09-21 08:32:38 -0400 (Mon, 21 Sep 2020)
EndedAt: 2020-09-21 08:33:22 -0400 (Mon, 21 Sep 2020)
EllapsedTime: 44.6 seconds
RetCode: 0
Status:  OK  
PackageFile: BEclear_2.5.0.zip
PackageFileSize: 1.297 MiB

Command output

##############################################################################
##############################################################################
###
### Running command:
###
###   rm -rf BEclear.buildbin-libdir && mkdir BEclear.buildbin-libdir && C:\Users\biocbuild\bbs-3.12-bioc\R\bin\R.exe CMD INSTALL --merge-multiarch --build --library=BEclear.buildbin-libdir BEclear_2.5.0.tar.gz
###
##############################################################################
##############################################################################



install for i386

* installing *source* package 'BEclear' ...
** using staged installation
** libs
"C:/rtools40/mingw32/bin/"g++  -std=gnu++11 -I"C:/Users/BIOCBU~1/BBS-3~1.12-/R/include" -DNDEBUG  -I'C:/Users/biocbuild/bbs-3.12-bioc/R/library/Rcpp/include'   -I"C:/extsoft/include"     -O2 -Wall  -mfpmath=sse -msse2 -mstackrealign -c RcppExports.cpp -o RcppExports.o
"C:/rtools40/mingw32/bin/"g++  -std=gnu++11 -I"C:/Users/BIOCBU~1/BBS-3~1.12-/R/include" -DNDEBUG  -I'C:/Users/biocbuild/bbs-3.12-bioc/R/library/Rcpp/include'   -I"C:/extsoft/include"     -O2 -Wall  -mfpmath=sse -msse2 -mstackrealign -c localLoss.cpp -o localLoss.o
C:/rtools40/mingw32/bin/g++ -shared -s -static-libgcc -o BEclear.dll tmp.def RcppExports.o localLoss.o -LC:/extsoft/lib/i386 -LC:/extsoft/lib -LC:/Users/BIOCBU~1/BBS-3~1.12-/R/bin/i386 -lR
installing to C:/Users/biocbuild/bbs-3.12-bioc/meat/BEclear.buildbin-libdir/00LOCK-BEclear/00new/BEclear/libs/i386
** R
** data
** inst
** byte-compile and prepare package for lazy loading
** help
*** installing help indices
  converting help for package 'BEclear'
    finding HTML links ... done
    BEclear-example-methylation-data        html  
    BEclear-example-sample-data             html  
    BEclear-package                         html  
    calcBatchEffects                        html  
    calcBatchEffectsForBatch                html  
    calcBlockFrame                          html  
    calcPositions                           html  
    calcScore                               html  
    calcSummary                             html  
    clearBEgenes                            html  
    combineBlocks                           html  
    correctBatchEffect                      html  
    countValuesToPredict                    html  
    ex.corrected.data                       html  
    findOutsideValues                       html  
    gdepoch                                 html  
    imputeMissingData                       html  
    imputeMissingDataForBlock               html  
    localLoss                               html  
    loss                                    html  
    makeBoxplot                             html  
    preprocessBEclear                       html  
    replaceOutsideValues                    html  
    runGradientDescent                      html  
** building package indices
** installing vignettes
** testing if installed package can be loaded from temporary location
** testing if installed package can be loaded from final location
** testing if installed package keeps a record of temporary installation path

install for x64

* installing *source* package 'BEclear' ...
** libs
"C:/rtools40/mingw64/bin/"g++  -std=gnu++11 -I"C:/Users/BIOCBU~1/BBS-3~1.12-/R/include" -DNDEBUG  -I'C:/Users/biocbuild/bbs-3.12-bioc/R/library/Rcpp/include'   -I"C:/extsoft/include"     -O2 -Wall  -mfpmath=sse -msse2 -mstackrealign -c RcppExports.cpp -o RcppExports.o
"C:/rtools40/mingw64/bin/"g++  -std=gnu++11 -I"C:/Users/BIOCBU~1/BBS-3~1.12-/R/include" -DNDEBUG  -I'C:/Users/biocbuild/bbs-3.12-bioc/R/library/Rcpp/include'   -I"C:/extsoft/include"     -O2 -Wall  -mfpmath=sse -msse2 -mstackrealign -c localLoss.cpp -o localLoss.o
C:/rtools40/mingw64/bin/g++ -shared -s -static-libgcc -o BEclear.dll tmp.def RcppExports.o localLoss.o -LC:/extsoft/lib/x64 -LC:/extsoft/lib -LC:/Users/BIOCBU~1/BBS-3~1.12-/R/bin/x64 -lR
installing to C:/Users/biocbuild/bbs-3.12-bioc/meat/BEclear.buildbin-libdir/BEclear/libs/x64
** testing if installed package can be loaded
* MD5 sums
packaged installation of 'BEclear' as BEclear_2.5.0.zip
* DONE (BEclear)