Back to Multiple platform build/check report for BioC 3.12
AB[C]DEFGHIJKLMNOPQRSTUVWXYZ

BUILD report for CAFE on merida1

This page was generated on 2020-08-13 11:51:55 -0400 (Thu, 13 Aug 2020).

TO THE DEVELOPERS/MAINTAINERS OF THE CAFE PACKAGE: Please make sure to use the following settings in order to reproduce any error or warning you see on this page.
Package 212/1885HostnameOS / ArchINSTALLBUILDCHECKBUILD BIN
CAFE 1.25.0
Sander Bollen
Snapshot Date: 2020-08-12 14:52:00 -0400 (Wed, 12 Aug 2020)
URL: https://git.bioconductor.org/packages/CAFE
Branch: master
Last Commit: b80f942
Last Changed Date: 2020-04-27 14:38:56 -0400 (Mon, 27 Apr 2020)
malbec1 Linux (Ubuntu 18.04.4 LTS) / x86_64  OK  OK  WARNINGS UNNEEDED, same version exists in internal repository
nebbiolo1 Linux (Ubuntu 20.04.1 LTS) / x86_64  OK  OK  WARNINGS 
tokay1 Windows Server 2012 R2 Standard / x64  OK  OK  WARNINGS  OK UNNEEDED, same version exists in internal repository
merida1 macOS 10.14.6 Mojave / x86_64  OK [ OK ] WARNINGS  OK UNNEEDED, same version exists in internal repository

Summary

Package: CAFE
Version: 1.25.0
Command: /Library/Frameworks/R.framework/Versions/Current/Resources/bin/R CMD build --keep-empty-dirs --no-resave-data CAFE
StartedAt: 2020-08-12 19:05:41 -0400 (Wed, 12 Aug 2020)
EndedAt: 2020-08-12 19:07:19 -0400 (Wed, 12 Aug 2020)
EllapsedTime: 97.8 seconds
RetCode: 0
Status:  OK 
PackageFile: CAFE_1.25.0.tar.gz
PackageFileSize: 4.301 MiB

Command output

##############################################################################
##############################################################################
###
### Running command:
###
###   /Library/Frameworks/R.framework/Versions/Current/Resources/bin/R CMD build --keep-empty-dirs --no-resave-data CAFE
###
##############################################################################
##############################################################################


* checking for file ‘CAFE/DESCRIPTION’ ... OK
* preparing ‘CAFE’:
* checking DESCRIPTION meta-information ... OK
* installing the package to build vignettes
* creating vignettes ... OK
* checking for LF line-endings in source and make files and shell scripts
* checking for empty or unneeded directories
* looking to see if a ‘data/datalist’ file should be added
* building ‘CAFE_1.25.0.tar.gz’