Back to Multiple platform build/check report for BioC 3.12
[A]BCDEFGHIJKLMNOPQRSTUVWXYZ

CHECK report for arrayMvout on tokay1

This page was generated on 2020-09-19 10:18:59 -0400 (Sat, 19 Sep 2020).

TO THE DEVELOPERS/MAINTAINERS OF THE arrayMvout PACKAGE: Please make sure to use the following settings in order to reproduce any error or warning you see on this page.
Package 78/1912HostnameOS / ArchINSTALLBUILDCHECKBUILD BIN
arrayMvout 1.47.0
V. Carey
Snapshot Date: 2020-09-18 14:43:25 -0400 (Fri, 18 Sep 2020)
URL: https://git.bioconductor.org/packages/arrayMvout
Branch: master
Last Commit: 972577c
Last Changed Date: 2020-04-27 14:18:24 -0400 (Mon, 27 Apr 2020)
malbec1 Linux (Ubuntu 18.04.4 LTS) / x86_64  OK  OK  OK UNNEEDED, same version exists in internal repository
nebbiolo1 Linux (Ubuntu 20.04.1 LTS) / x86_64  OK  OK  OK 
tokay1 Windows Server 2012 R2 Standard / x64  OK  OK [ OK ] OK UNNEEDED, same version exists in internal repository
riesling1 Windows Server 2019 Standard / x64  OK  OK  OK  OK 
merida1 macOS 10.14.6 Mojave / x86_64  OK  OK  OK  OK UNNEEDED, same version exists in internal repository

Summary

Package: arrayMvout
Version: 1.47.0
Command: C:\Users\biocbuild\bbs-3.12-bioc\R\bin\R.exe CMD check --force-multiarch --install=check:arrayMvout.install-out.txt --library=C:\Users\biocbuild\bbs-3.12-bioc\R\library --no-vignettes --timings arrayMvout_1.47.0.tar.gz
StartedAt: 2020-09-19 00:28:56 -0400 (Sat, 19 Sep 2020)
EndedAt: 2020-09-19 00:37:50 -0400 (Sat, 19 Sep 2020)
EllapsedTime: 533.8 seconds
RetCode: 0
Status:  OK  
CheckDir: arrayMvout.Rcheck
Warnings: 0

Command output

##############################################################################
##############################################################################
###
### Running command:
###
###   C:\Users\biocbuild\bbs-3.12-bioc\R\bin\R.exe CMD check --force-multiarch --install=check:arrayMvout.install-out.txt --library=C:\Users\biocbuild\bbs-3.12-bioc\R\library --no-vignettes --timings arrayMvout_1.47.0.tar.gz
###
##############################################################################
##############################################################################


* using log directory 'C:/Users/biocbuild/bbs-3.12-bioc/meat/arrayMvout.Rcheck'
* using R version 4.0.2 (2020-06-22)
* using platform: x86_64-w64-mingw32 (64-bit)
* using session charset: ISO8859-1
* using option '--no-vignettes'
* checking for file 'arrayMvout/DESCRIPTION' ... OK
* this is package 'arrayMvout' version '1.47.0'
* checking package namespace information ... OK
* checking package dependencies ... OK
* checking if this is a source package ... OK
* checking if there is a namespace ... OK
* checking for hidden files and directories ... OK
* checking for portable file names ... OK
* checking whether package 'arrayMvout' can be installed ... OK
* checking installed package size ... OK
* checking package directory ... OK
* checking 'build' directory ... OK
* checking DESCRIPTION meta-information ... NOTE
Malformed Description field: should contain one or more complete sentences.
* checking top-level files ... OK
* checking for left-over files ... OK
* checking index information ... OK
* checking package subdirectories ... OK
* checking R files for non-ASCII characters ... OK
* checking R files for syntax errors ... OK
* loading checks for arch 'i386'
** checking whether the package can be loaded ... OK
** checking whether the package can be loaded with stated dependencies ... OK
** checking whether the package can be unloaded cleanly ... OK
** checking whether the namespace can be loaded with stated dependencies ... OK
** checking whether the namespace can be unloaded cleanly ... OK
* loading checks for arch 'x64'
** checking whether the package can be loaded ... OK
** checking whether the package can be loaded with stated dependencies ... OK
** checking whether the package can be unloaded cleanly ... OK
** checking whether the namespace can be loaded with stated dependencies ... OK
** checking whether the namespace can be unloaded cleanly ... OK
* checking dependencies in R code ... NOTE
Packages in Depends field not imported from:
  'Biobase' 'affy' 'lumi' 'methods' 'parody'
  These packages need to be imported from (in the NAMESPACE file)
  for when this namespace is loaded but not attached.
* checking S3 generic/method consistency ... OK
* checking replacement functions ... OK
* checking foreign function calls ... OK
* checking R code for possible problems ... NOTE
.affyArrayOutliers: no visible global function definition for
  'sampleNames'
.affyArrayOutliers: no visible global function definition for 'fitPLM'
.affyArrayOutliers: no visible global function definition for 'boxplot'
.affyArrayOutliers: no visible global function definition for 'Mbox'
.affyArrayOutliers: no visible global function definition for
  'AffyRNAdeg'
.affyArrayOutliers: no visible global function definition for 'prcomp'
.affyArrayOutliers : <anonymous>: no visible global function definition
  for 'mv.calout.detect'
.affyArrayOutliers: no visible global function definition for
  'mv.calout.detect'
.lumiArrayOutliers: no visible global function definition for 'lumiQ'
.lumiArrayOutliers: no visible global function definition for 'prcomp'
.lumiArrayOutliers: no visible global function definition for
  'mv.calout.detect'
.lumiArrayOutliers : <anonymous>: no visible global function definition
  for 'mv.calout.detect'
ArrayOutliers,data.frame-numeric-ANY: no visible global function
  definition for 'prcomp'
ArrayOutliers,data.frame-numeric-ANY: no visible global function
  definition for 'mv.calout.detect'
ArrayOutliers,data.frame-numeric-ANY : <anonymous>: no visible global
  function definition for 'mv.calout.detect'
plot,arrOutStruct-ANY: no visible global function definition for
  'biplot'
plot,arrOutStruct-ANY: no visible global function definition for
  'prcomp'
Undefined global functions or variables:
  AffyRNAdeg Mbox biplot boxplot fitPLM lumiQ mv.calout.detect prcomp
  sampleNames
Consider adding
  importFrom("graphics", "boxplot")
  importFrom("stats", "biplot", "prcomp")
to your NAMESPACE file.
* checking Rd files ... OK
* checking Rd metadata ... OK
* checking Rd cross-references ... OK
* checking for missing documentation entries ... OK
* checking for code/documentation mismatches ... OK
* checking Rd \usage sections ... OK
* checking Rd contents ... OK
* checking for unstated dependencies in examples ... OK
* checking contents of 'data' directory ... OK
* checking data for non-ASCII characters ... OK
* checking data for ASCII and uncompressed saves ... OK
* checking files in 'vignettes' ... OK
* checking examples ...
** running examples for arch 'i386' ... OK
Examples with CPU (user + system) or elapsed time > 5s
                       user system elapsed
ArrayOutliers-methods 24.89   1.37   27.14
ArrayOutliers         17.89   0.55   18.44
** running examples for arch 'x64' ... OK
Examples with CPU (user + system) or elapsed time > 5s
                       user system elapsed
ArrayOutliers-methods 26.47   0.48   27.03
ArrayOutliers         22.92   0.25   23.17
* checking for unstated dependencies in vignettes ... OK
* checking package vignettes in 'inst/doc' ... OK
* checking running R code from vignettes ... SKIPPED
* checking re-building of vignette outputs ... SKIPPED
* checking PDF version of manual ... OK
* DONE

Status: 3 NOTEs
See
  'C:/Users/biocbuild/bbs-3.12-bioc/meat/arrayMvout.Rcheck/00check.log'
for details.



Installation output

arrayMvout.Rcheck/00install.out

##############################################################################
##############################################################################
###
### Running command:
###
###   C:\cygwin\bin\curl.exe -O https://malbec1.bioconductor.org/BBS/3.12/bioc/src/contrib/arrayMvout_1.47.0.tar.gz && rm -rf arrayMvout.buildbin-libdir && mkdir arrayMvout.buildbin-libdir && C:\Users\biocbuild\bbs-3.12-bioc\R\bin\R.exe CMD INSTALL --merge-multiarch --build --library=arrayMvout.buildbin-libdir arrayMvout_1.47.0.tar.gz && C:\Users\biocbuild\bbs-3.12-bioc\R\bin\R.exe CMD INSTALL arrayMvout_1.47.0.zip && rm arrayMvout_1.47.0.tar.gz arrayMvout_1.47.0.zip
###
##############################################################################
##############################################################################


  % Total    % Received % Xferd  Average Speed   Time    Time     Time  Current
                                 Dload  Upload   Total   Spent    Left  Speed

  0     0    0     0    0     0      0      0 --:--:-- --:--:-- --:--:--     0
 37  297k   37  112k    0     0   997k      0 --:--:-- --:--:-- --:--:-- 1027k
100  297k  100  297k    0     0  2617k      0 --:--:-- --:--:-- --:--:-- 2683k

install for i386

* installing *source* package 'arrayMvout' ...
** using staged installation
** R
** data
** byte-compile and prepare package for lazy loading
No methods found in package 'RSQLite' for request: 'dbListFields' when loading 'lumi'
** help
*** installing help indices
  converting help for package 'arrayMvout'
    finding HTML links ... done
    ArrayOutliers-methods                   html  
    ArrayOutliers                           html  
    arrOutStruct-class                      html  
** building package indices
** installing vignettes
** testing if installed package can be loaded from temporary location
No methods found in package 'RSQLite' for request: 'dbListFields' when loading 'lumi'
** testing if installed package can be loaded from final location
No methods found in package 'RSQLite' for request: 'dbListFields' when loading 'lumi'
** testing if installed package keeps a record of temporary installation path

install for x64

* installing *source* package 'arrayMvout' ...
** testing if installed package can be loaded
No methods found in package 'RSQLite' for request: 'dbListFields' when loading 'lumi'
* MD5 sums
packaged installation of 'arrayMvout' as arrayMvout_1.47.0.zip
* DONE (arrayMvout)
* installing to library 'C:/Users/biocbuild/bbs-3.12-bioc/R/library'
package 'arrayMvout' successfully unpacked and MD5 sums checked

Tests output


Example timings

arrayMvout.Rcheck/examples_i386/arrayMvout-Ex.timings

nameusersystemelapsed
ArrayOutliers-methods24.89 1.3727.14
ArrayOutliers17.89 0.5518.44
arrOutStruct-class0.140.170.31

arrayMvout.Rcheck/examples_x64/arrayMvout-Ex.timings

nameusersystemelapsed
ArrayOutliers-methods26.47 0.4827.03
ArrayOutliers22.92 0.2523.17
arrOutStruct-class0.070.000.08