Back to Multiple platform build/check report for BioC 3.12 |
|
This page was generated on 2021-05-06 12:32:24 -0400 (Thu, 06 May 2021).
To the developers/maintainers of the multiHiCcompare package: Please make sure to use the following settings in order to reproduce any error or warning you see on this page. |
Package 1180/1974 | Hostname | OS / Arch | INSTALL | BUILD | CHECK | BUILD BIN | ||||||||
multiHiCcompare 1.8.0 (landing page) John Stansfield
| malbec1 | Linux (Ubuntu 18.04.5 LTS) / x86_64 | OK | ERROR | skipped | |||||||||
tokay1 | Windows Server 2012 R2 Standard / x64 | OK | ERROR | skipped | skipped | |||||||||
merida1 | macOS 10.14.6 Mojave / x86_64 | OK | ERROR | skipped | skipped | |||||||||
Package: multiHiCcompare |
Version: 1.8.0 |
Command: C:\cygwin\bin\curl.exe -O http://172.29.0.3/BBS/3.12/bioc/src/contrib/multiHiCcompare_1.8.0.tar.gz && rm -rf multiHiCcompare.buildbin-libdir && mkdir multiHiCcompare.buildbin-libdir && C:\Users\biocbuild\bbs-3.12-bioc\R\bin\R.exe CMD INSTALL --merge-multiarch --build --library=multiHiCcompare.buildbin-libdir multiHiCcompare_1.8.0.tar.gz && C:\Users\biocbuild\bbs-3.12-bioc\R\bin\R.exe CMD INSTALL multiHiCcompare_1.8.0.zip && rm multiHiCcompare_1.8.0.tar.gz multiHiCcompare_1.8.0.zip |
StartedAt: 2021-05-05 17:53:25 -0400 (Wed, 05 May 2021) |
EndedAt: 2021-05-05 17:55:08 -0400 (Wed, 05 May 2021) |
EllapsedTime: 102.5 seconds |
RetCode: 0 |
Status: OK |
############################################################################## ############################################################################## ### ### Running command: ### ### C:\cygwin\bin\curl.exe -O http://172.29.0.3/BBS/3.12/bioc/src/contrib/multiHiCcompare_1.8.0.tar.gz && rm -rf multiHiCcompare.buildbin-libdir && mkdir multiHiCcompare.buildbin-libdir && C:\Users\biocbuild\bbs-3.12-bioc\R\bin\R.exe CMD INSTALL --merge-multiarch --build --library=multiHiCcompare.buildbin-libdir multiHiCcompare_1.8.0.tar.gz && C:\Users\biocbuild\bbs-3.12-bioc\R\bin\R.exe CMD INSTALL multiHiCcompare_1.8.0.zip && rm multiHiCcompare_1.8.0.tar.gz multiHiCcompare_1.8.0.zip ### ############################################################################## ############################################################################## % Total % Received % Xferd Average Speed Time Time Time Current Dload Upload Total Spent Left Speed 0 0 0 0 0 0 0 0 --:--:-- --:--:-- --:--:-- 0 100 2556k 100 2556k 0 0 11.5M 0 --:--:-- --:--:-- --:--:-- 11.6M install for i386 * installing *source* package 'multiHiCcompare' ... ** using staged installation ** R ** data *** moving datasets to lazyload DB ** inst ** byte-compile and prepare package for lazy loading ** help *** installing help indices converting help for package 'multiHiCcompare' finding HTML links ... done HCT116_r1 html HCT116_r2 html HCT116_r3 html HCT116_r4 html HCT116_r5 html HCT116_r6 html Hicexp-class html MD_composite html MD_hicexp html cyclic_loess html exportJuicebox html fastlo html hg19_cyto html hg38_cyto html hic_exactTest html hic_filter html hic_glm html hic_scale html hic_table html hicexp2 html hicexp_diff html make_hicexp html manhattan_hicexp html meta html normalized html perm_test html plot_counts html plot_pvals html pval_heatmap html resolution html results html show html smartApply html topDirs html ** building package indices ** installing vignettes ** testing if installed package can be loaded from temporary location ** testing if installed package can be loaded from final location ** testing if installed package keeps a record of temporary installation path install for x64 * installing *source* package 'multiHiCcompare' ... ** testing if installed package can be loaded * MD5 sums packaged installation of 'multiHiCcompare' as multiHiCcompare_1.8.0.zip * DONE (multiHiCcompare) * installing to library 'C:/Users/biocbuild/bbs-3.12-bioc/R/library' package 'multiHiCcompare' successfully unpacked and MD5 sums checked