Back to Multiple platform build/check report for BioC 3.12
AB[C]DEFGHIJKLMNOPQRSTUVWXYZ

INSTALL report for CHARGE on malbec1

This page was generated on 2020-08-11 11:24:21 -0400 (Tue, 11 Aug 2020).

TO THE DEVELOPERS/MAINTAINERS OF THE CHARGE PACKAGE: Please make sure to use the following settings in order to reproduce any error or warning you see on this page.
Package 262/1885HostnameOS / ArchINSTALLBUILDCHECKBUILD BIN
CHARGE 1.9.1
Benjamin Mayne
Snapshot Date: 2020-08-10 14:50:56 -0400 (Mon, 10 Aug 2020)
URL: https://git.bioconductor.org/packages/CHARGE
Branch: master
Last Commit: eadf39e
Last Changed Date: 2020-06-08 10:06:16 -0400 (Mon, 08 Jun 2020)
malbec1 Linux (Ubuntu 18.04.4 LTS) / x86_64 [ ERROR ] ERROR  skipped 
nebbiolo1 Linux (Ubuntu 20.04.1 LTS) / x86_64  ERROR  ERROR  skipped 
tokay1 Windows Server 2012 R2 Standard / x64  ERROR  ERROR  skipped  skipped 
merida1 macOS 10.14.6 Mojave / x86_64  ERROR  ERROR  skipped  skipped 

Summary

Package: CHARGE
Version: 1.9.1
Command: /home/biocbuild/bbs-3.12-bioc/R/bin/R CMD INSTALL CHARGE
StartedAt: 2020-08-10 17:34:45 -0400 (Mon, 10 Aug 2020)
EndedAt: 2020-08-10 17:34:45 -0400 (Mon, 10 Aug 2020)
EllapsedTime: 0.5 seconds
RetCode: 1
Status:  ERROR 

Command output

##############################################################################
##############################################################################
###
### Running command:
###
###   /home/biocbuild/bbs-3.12-bioc/R/bin/R CMD INSTALL CHARGE
###
##############################################################################
##############################################################################


* installing to library ‘/home/biocbuild/bbs-3.12-bioc/R/library’
ERROR: dependency ‘modes’ is not available for package ‘CHARGE’
* removing ‘/home/biocbuild/bbs-3.12-bioc/R/library/CHARGE’