Back to Multiple platform build/check report for BioC 3.12
AB[C]DEFGHIJKLMNOPQRSTUVWXYZ

BUILD BIN report for cellity on merida1

This page was generated on 2020-09-21 11:26:07 -0400 (Mon, 21 Sep 2020).

TO THE DEVELOPERS/MAINTAINERS OF THE cellity PACKAGE: Please make sure to use the following settings in order to reproduce any error or warning you see on this page.
Package 244/1912HostnameOS / ArchINSTALLBUILDCHECKBUILD BIN
cellity 1.17.0
Tomislav Ilicic
Snapshot Date: 2020-09-20 14:41:51 -0400 (Sun, 20 Sep 2020)
URL: https://git.bioconductor.org/packages/cellity
Branch: master
Last Commit: 5a480a2
Last Changed Date: 2020-04-27 14:54:50 -0400 (Mon, 27 Apr 2020)
malbec1 Linux (Ubuntu 18.04.4 LTS) / x86_64  OK  OK  OK UNNEEDED, same version exists in internal repository
nebbiolo1 Linux (Ubuntu 20.04.1 LTS) / x86_64  OK  OK  OK 
tokay1 Windows Server 2012 R2 Standard / x64  OK  OK  OK  OK UNNEEDED, same version exists in internal repository
riesling1 Windows Server 2019 Standard / x64  OK  OK  OK  OK 
merida1 macOS 10.14.6 Mojave / x86_64  OK  OK  OK [ OK ]UNNEEDED, same version exists in internal repository

Summary

Package: cellity
Version: 1.17.0
Command: rm -rf cellity.buildbin-libdir && mkdir cellity.buildbin-libdir && /Users/biocbuild/BBS/utils/build-universal.sh cellity_1.17.0.tar.gz /Library/Frameworks/R.framework/Versions/Current/Resources/bin/R cellity.buildbin-libdir
StartedAt: 2020-09-21 09:06:15 -0400 (Mon, 21 Sep 2020)
EndedAt: 2020-09-21 09:07:05 -0400 (Mon, 21 Sep 2020)
EllapsedTime: 50.1 seconds
RetCode: 0
Status:  OK 
PackageFile: cellity_1.17.0.tgz
PackageFileSize: 1.251 MiB

Command output

##############################################################################
##############################################################################
###
### Running command:
###
###   rm -rf cellity.buildbin-libdir && mkdir cellity.buildbin-libdir && /Users/biocbuild/BBS/utils/build-universal.sh cellity_1.17.0.tar.gz /Library/Frameworks/R.framework/Versions/Current/Resources/bin/R cellity.buildbin-libdir
###
##############################################################################
##############################################################################


>>>>>>> 
>>>>>>> INSTALLATION WITH 'R CMD INSTALL --preclean --no-multiarch --library=cellity.buildbin-libdir cellity_1.17.0.tar.gz'
>>>>>>> 

* installing *source* package ‘cellity’ ...
** using staged installation
** R
** data
*** moving datasets to lazyload DB
** inst
** byte-compile and prepare package for lazy loading
** help
*** installing help indices
** building package indices
** installing vignettes
** testing if installed package can be loaded from temporary location
** testing if installed package can be loaded from final location
** testing if installed package keeps a record of temporary installation path
* DONE (cellity)