Back to Multiple platform build/check report for BioC 3.12
A[B]CDEFGHIJKLMNOPQRSTUVWXYZ

BUILD BIN report for bigmelon on tokay1

This page was generated on 2021-01-22 11:54:55 -0500 (Fri, 22 Jan 2021).

TO THE DEVELOPERS/MAINTAINERS OF THE bigmelon PACKAGE: Please make sure to use the following settings in order to reproduce any error or warning you see on this page.
Package 148/1974HostnameOS / ArchINSTALLBUILDCHECKBUILD BIN
bigmelon 1.16.0
Tyler J. Gorrie-Stone
Snapshot Date: 2021-01-21 14:42:12 -0500 (Thu, 21 Jan 2021)
URL: https://git.bioconductor.org/packages/bigmelon
Branch: RELEASE_3_12
Last Commit: e87386b
Last Changed Date: 2020-10-27 11:17:49 -0500 (Tue, 27 Oct 2020)
malbec1 Linux (Ubuntu 18.04.5 LTS) / x86_64  OK  OK  OK UNNEEDED, same version exists in internal repository
nebbiolo1 Linux (Ubuntu 20.04.1 LTS) / x86_64  OK  OK  OK 
tokay1 Windows Server 2012 R2 Standard / x64  OK  OK  OK [ OK ]UNNEEDED, same version exists in internal repository
merida1 macOS 10.14.6 Mojave / x86_64  OK  ERROR  skipped  skipped 

Summary

Package: bigmelon
Version: 1.16.0
Command: rm -rf bigmelon.buildbin-libdir && mkdir bigmelon.buildbin-libdir && C:\Users\biocbuild\bbs-3.12-bioc\R\bin\R.exe CMD INSTALL --merge-multiarch --build --library=bigmelon.buildbin-libdir bigmelon_1.16.0.tar.gz
StartedAt: 2021-01-22 08:52:48 -0500 (Fri, 22 Jan 2021)
EndedAt: 2021-01-22 08:54:39 -0500 (Fri, 22 Jan 2021)
EllapsedTime: 111.2 seconds
RetCode: 0
Status:  OK  
PackageFile: bigmelon_1.16.0.zip
PackageFileSize: 1.204 MiB

Command output

##############################################################################
##############################################################################
###
### Running command:
###
###   rm -rf bigmelon.buildbin-libdir && mkdir bigmelon.buildbin-libdir && C:\Users\biocbuild\bbs-3.12-bioc\R\bin\R.exe CMD INSTALL --merge-multiarch --build --library=bigmelon.buildbin-libdir bigmelon_1.16.0.tar.gz
###
##############################################################################
##############################################################################



install for i386

* installing *source* package 'bigmelon' ...
** using staged installation
** R
** data
** inst
** byte-compile and prepare package for lazy loading
No methods found in package 'RSQLite' for request: 'dbListFields' when loading 'lumi'
Creating a new generic function for 'fot' in package 'bigmelon'
Creating a new generic function for 'predictSex' in package 'bigmelon'
** help
*** installing help indices
  converting help for package 'bigmelon'
    finding HTML links ... done
    GEOtoGDS                                html  
    app2gds                                 html  
    backupGdsn                              html  
    bigmelon-accessors                      html  
    bigmelon-internal                       html  
    bigmelon-normalization                  html  
    finding level-2 HTML links ... done

    bigmelon-package                        html  
    bumphunterGdsn                          html  
    cantaloupe                              html  
    combogds                                html  
    ecc                                     html  
    es2gds                                  html  
    finalreport2gds                         html  
    gds2mlumi                               html  
    getquantilesandranks                    html  
    iadd                                    html  
    pfiltergds                              html  
    prcompgdsn                              html  
    pwodgdsn                                html  
    rankednorm                              html  
    redirect                                html  
    wm-port                                 html  
** building package indices
** installing vignettes
** testing if installed package can be loaded from temporary location
No methods found in package 'RSQLite' for request: 'dbListFields' when loading 'lumi'
** testing if installed package can be loaded from final location
No methods found in package 'RSQLite' for request: 'dbListFields' when loading 'lumi'
** testing if installed package keeps a record of temporary installation path

install for x64

* installing *source* package 'bigmelon' ...
** testing if installed package can be loaded
No methods found in package 'RSQLite' for request: 'dbListFields' when loading 'lumi'
* MD5 sums
packaged installation of 'bigmelon' as bigmelon_1.16.0.zip
* DONE (bigmelon)