Back to Multiple platform build/check report for BioC 3.12
AB[C]DEFGHIJKLMNOPQRSTUVWXYZ

BUILD BIN report for CAGEfightR on merida1

This page was generated on 2020-08-10 12:42:37 -0400 (Mon, 10 Aug 2020).

TO THE DEVELOPERS/MAINTAINERS OF THE CAGEfightR PACKAGE: Please make sure to use the following settings in order to reproduce any error or warning you see on this page.
Package 213/1882HostnameOS / ArchINSTALLBUILDCHECKBUILD BIN
CAGEfightR 1.9.0
Malte Thodberg
Snapshot Date: 2020-08-09 14:51:29 -0400 (Sun, 09 Aug 2020)
URL: https://git.bioconductor.org/packages/CAGEfightR
Branch: master
Last Commit: 4bec7db
Last Changed Date: 2020-04-27 15:16:40 -0400 (Mon, 27 Apr 2020)
malbec1 Linux (Ubuntu 18.04.4 LTS) / x86_64  OK  OK  OK UNNEEDED, same version exists in internal repository
nebbiolo1 Linux (Ubuntu 20.04.1 LTS) / x86_64  OK  OK  OK 
tokay1 Windows Server 2012 R2 Standard / x64  OK  OK  OK  OK UNNEEDED, same version exists in internal repository
merida1 macOS 10.14.6 Mojave / x86_64  OK  OK  OK [ OK ]UNNEEDED, same version exists in internal repository

Summary

Package: CAGEfightR
Version: 1.9.0
Command: rm -rf CAGEfightR.buildbin-libdir && mkdir CAGEfightR.buildbin-libdir && /Users/biocbuild/BBS/utils/build-universal.sh CAGEfightR_1.9.0.tar.gz /Library/Frameworks/R.framework/Versions/Current/Resources/bin/R CAGEfightR.buildbin-libdir
StartedAt: 2020-08-10 07:32:58 -0400 (Mon, 10 Aug 2020)
EndedAt: 2020-08-10 07:33:52 -0400 (Mon, 10 Aug 2020)
EllapsedTime: 54.4 seconds
RetCode: 0
Status:  OK 
PackageFile: CAGEfightR_1.9.0.tgz
PackageFileSize: 2.915 MiB

Command output

##############################################################################
##############################################################################
###
### Running command:
###
###   rm -rf CAGEfightR.buildbin-libdir && mkdir CAGEfightR.buildbin-libdir && /Users/biocbuild/BBS/utils/build-universal.sh CAGEfightR_1.9.0.tar.gz /Library/Frameworks/R.framework/Versions/Current/Resources/bin/R CAGEfightR.buildbin-libdir
###
##############################################################################
##############################################################################


>>>>>>> 
>>>>>>> INSTALLATION WITH 'R CMD INSTALL --preclean --no-multiarch --library=CAGEfightR.buildbin-libdir CAGEfightR_1.9.0.tar.gz'
>>>>>>> 

* installing *source* package ‘CAGEfightR’ ...
** using staged installation
** R
** data
*** moving datasets to lazyload DB
** inst
** byte-compile and prepare package for lazy loading
** help
*** installing help indices
** building package indices
** installing vignettes
** testing if installed package can be loaded from temporary location
** testing if installed package can be loaded from final location
** testing if installed package keeps a record of temporary installation path
* DONE (CAGEfightR)