Back to Multiple platform build/check report for BioC 3.12
A[B]CDEFGHIJKLMNOPQRSTUVWXYZ

BUILD BIN report for basilisk on tokay1

This page was generated on 2020-08-12 11:50:49 -0400 (Wed, 12 Aug 2020).

TO THE DEVELOPERS/MAINTAINERS OF THE basilisk PACKAGE: Please make sure to use the following settings in order to reproduce any error or warning you see on this page.
Package 114/1885HostnameOS / ArchINSTALLBUILDCHECKBUILD BIN
basilisk 1.1.9
Aaron Lun
Snapshot Date: 2020-08-11 14:50:16 -0400 (Tue, 11 Aug 2020)
URL: https://git.bioconductor.org/packages/basilisk
Branch: master
Last Commit: 6818dce
Last Changed Date: 2020-07-17 16:35:06 -0400 (Fri, 17 Jul 2020)
malbec1 Linux (Ubuntu 18.04.4 LTS) / x86_64  OK  OK  OK UNNEEDED, same version exists in internal repository
nebbiolo1 Linux (Ubuntu 20.04.1 LTS) / x86_64  OK  OK  OK 
tokay1 Windows Server 2012 R2 Standard / x64  OK  OK  OK [ OK ]UNNEEDED, same version exists in internal repository
merida1 macOS 10.14.6 Mojave / x86_64  OK  OK  OK  OK UNNEEDED, same version exists in internal repository

Summary

Package: basilisk
Version: 1.1.9
Command: rm -rf basilisk.buildbin-libdir && mkdir basilisk.buildbin-libdir && C:\Users\biocbuild\bbs-3.12-bioc\R\bin\R.exe --arch x64 CMD INSTALL --no-multiarch --build --library=basilisk.buildbin-libdir basilisk_1.1.9.tar.gz
StartedAt: 2020-08-12 09:11:58 -0400 (Wed, 12 Aug 2020)
EndedAt: 2020-08-12 09:12:50 -0400 (Wed, 12 Aug 2020)
EllapsedTime: 51.9 seconds
RetCode: 0
Status:  OK  
PackageFile: basilisk_1.1.9.zip
PackageFileSize: 302.6 KiB

Command output

##############################################################################
##############################################################################
###
### Running command:
###
###   rm -rf basilisk.buildbin-libdir && mkdir basilisk.buildbin-libdir && C:\Users\biocbuild\bbs-3.12-bioc\R\bin\R.exe --arch x64 CMD INSTALL --no-multiarch --build --library=basilisk.buildbin-libdir basilisk_1.1.9.tar.gz
###
##############################################################################
##############################################################################


* installing *source* package 'basilisk' ...
** using non-staged installation via StagedInstall field
** R
** inst
** byte-compile and prepare package for lazy loading
** help
*** installing help indices
  converting help for package 'basilisk'
    finding HTML links ... done
    BasiliskEnvironment-class               html  
    PyPiLink                                html  
    basiliskOptions                         html  
    basiliskStart                           html  
    configureBasiliskEnv                    html  
    findPersistentEnv                       html  
    listPackages                            html  
    finding level-2 HTML links ... done

    setupBasiliskEnv                        html  
    useBasiliskEnv                          html  
** building package indices
** installing vignettes
** testing if installed package can be loaded
* MD5 sums
packaged installation of 'basilisk' as basilisk_1.1.9.zip
* DONE (basilisk)