Back to Multiple platform build/check report for BioC 3.12
A[B]CDEFGHIJKLMNOPQRSTUVWXYZ

BUILD report for BEclear on tokay1

This page was generated on 2021-04-17 12:08:08 -0400 (Sat, 17 Apr 2021).

To the developers/maintainers of the BEclear package:
Please make sure to use the following settings in order to reproduce any error or warning you see on this page.
Package 139/1974HostnameOS / ArchINSTALLBUILDCHECKBUILD BIN
BEclear 2.6.0  (landing page)
David Rasp
Snapshot Date: 2021-04-16 14:50:12 -0400 (Fri, 16 Apr 2021)
URL: https://git.bioconductor.org/packages/BEclear
Branch: RELEASE_3_12
Last Commit: c0d806a
Last Changed Date: 2020-10-27 11:05:28 -0400 (Tue, 27 Oct 2020)
malbec1Linux (Ubuntu 18.04.5 LTS) / x86_64  OK    OK    WARNINGS  UNNEEDED, same version exists in internal repository
tokay1Windows Server 2012 R2 Standard / x64  OK    OK    WARNINGS    OK  UNNEEDED, same version exists in internal repository
merida1macOS 10.14.6 Mojave / x86_64  OK    OK    WARNINGS    OK  UNNEEDED, same version exists in internal repository

Summary

Package: BEclear
Version: 2.6.0
Command: chmod a+r BEclear -R && C:\Users\biocbuild\bbs-3.12-bioc\R\bin\R.exe CMD build --keep-empty-dirs --no-resave-data BEclear
StartedAt: 2021-04-16 19:37:28 -0400 (Fri, 16 Apr 2021)
EndedAt: 2021-04-16 19:38:21 -0400 (Fri, 16 Apr 2021)
EllapsedTime: 53.5 seconds
RetCode: 0
Status:   OK   
PackageFile: BEclear_2.6.0.tar.gz
PackageFileSize: 563.2 KiB

Command output

##############################################################################
##############################################################################
###
### Running command:
###
###   chmod a+r BEclear -R && C:\Users\biocbuild\bbs-3.12-bioc\R\bin\R.exe CMD build --keep-empty-dirs --no-resave-data BEclear
###
##############################################################################
##############################################################################


* checking for file 'BEclear/DESCRIPTION' ... OK
* preparing 'BEclear':
* checking DESCRIPTION meta-information ... OK
* cleaning src
* installing the package to process help pages
Loading required namespace: BEclear
Warning in tools::parseLatex(x) :
  x:1: unexpected END_OF_INPUT '%} confidence level}'
* saving partial Rd database
* creating vignettes ... OK
* cleaning src
* checking for LF line-endings in source and make files and shell scripts
* checking for empty or unneeded directories
* looking to see if a 'data/datalist' file should be added
* building 'BEclear_2.6.0.tar.gz'