Back to Multiple platform build/check report for BioC 3.12
A[B]CDEFGHIJKLMNOPQRSTUVWXYZ

BUILD BIN report for BioMM on tokay1

This page was generated on 2020-08-12 11:49:02 -0400 (Wed, 12 Aug 2020).

TO THE DEVELOPERS/MAINTAINERS OF THE BioMM PACKAGE: Please make sure to use the following settings in order to reproduce any error or warning you see on this page.
Package 169/1885HostnameOS / ArchINSTALLBUILDCHECKBUILD BIN
BioMM 1.5.2
Junfang Chen
Snapshot Date: 2020-08-11 14:50:16 -0400 (Tue, 11 Aug 2020)
URL: https://git.bioconductor.org/packages/BioMM
Branch: master
Last Commit: de6c715
Last Changed Date: 2020-05-28 10:38:53 -0400 (Thu, 28 May 2020)
malbec1 Linux (Ubuntu 18.04.4 LTS) / x86_64  OK  OK  WARNINGS UNNEEDED, same version exists in internal repository
nebbiolo1 Linux (Ubuntu 20.04.1 LTS) / x86_64  OK  OK  OK 
tokay1 Windows Server 2012 R2 Standard / x64  OK  OK  OK [ OK ]UNNEEDED, same version exists in internal repository
merida1 macOS 10.14.6 Mojave / x86_64  OK  OK  OK  OK UNNEEDED, same version exists in internal repository

Summary

Package: BioMM
Version: 1.5.2
Command: rm -rf BioMM.buildbin-libdir && mkdir BioMM.buildbin-libdir && C:\Users\biocbuild\bbs-3.12-bioc\R\bin\R.exe CMD INSTALL --merge-multiarch --build --library=BioMM.buildbin-libdir BioMM_1.5.2.tar.gz
StartedAt: 2020-08-12 08:59:27 -0400 (Wed, 12 Aug 2020)
EndedAt: 2020-08-12 09:00:23 -0400 (Wed, 12 Aug 2020)
EllapsedTime: 56.0 seconds
RetCode: 0
Status:  OK  
PackageFile: BioMM_1.5.2.zip
PackageFileSize: 4.706 MiB

Command output

##############################################################################
##############################################################################
###
### Running command:
###
###   rm -rf BioMM.buildbin-libdir && mkdir BioMM.buildbin-libdir && C:\Users\biocbuild\bbs-3.12-bioc\R\bin\R.exe CMD INSTALL --merge-multiarch --build --library=BioMM.buildbin-libdir BioMM_1.5.2.tar.gz
###
##############################################################################
##############################################################################



install for i386

* installing *source* package 'BioMM' ...
** using staged installation
** R
** inst
** byte-compile and prepare package for lazy loading
** help
*** installing help indices
  converting help for package 'BioMM'
    finding HTML links ... done
    BioMM                                   html  
    BioMMstage2pred                         html  
    baseGLMnet                              html  
    baseModel                               html  
    baseRandForest                          html  
    baseSVM                                 html  
    cirPlot4pathway                         html  
    classifiACC                             html  
    getDataByFilter                         html  
    getMetrics                              html  
    omics2pathlist                          html  
    plotRankedFeature                       html  
    plotVarExplained                        html  
    predByBS                                html  
    predByCV                                html  
    predByFS                                html  
    reconBySupervised                       html  
    reconByUnsupervised                     html  
** building package indices
** installing vignettes
** testing if installed package can be loaded from temporary location
** testing if installed package can be loaded from final location
** testing if installed package keeps a record of temporary installation path

install for x64

* installing *source* package 'BioMM' ...
** testing if installed package can be loaded
* MD5 sums
packaged installation of 'BioMM' as BioMM_1.5.2.zip
* DONE (BioMM)