Back to Multiple platform build/check report for BioC 3.12
A[B]CDEFGHIJKLMNOPQRSTUVWXYZ

BUILD BIN report for BioMM on merida1

This page was generated on 2020-08-11 12:03:18 -0400 (Tue, 11 Aug 2020).

TO THE DEVELOPERS/MAINTAINERS OF THE BioMM PACKAGE: Please make sure to use the following settings in order to reproduce any error or warning you see on this page.
Package 169/1885HostnameOS / ArchINSTALLBUILDCHECKBUILD BIN
BioMM 1.5.2
Junfang Chen
Snapshot Date: 2020-08-10 14:50:56 -0400 (Mon, 10 Aug 2020)
URL: https://git.bioconductor.org/packages/BioMM
Branch: master
Last Commit: de6c715
Last Changed Date: 2020-05-28 10:38:53 -0400 (Thu, 28 May 2020)
malbec1 Linux (Ubuntu 18.04.4 LTS) / x86_64  OK  OK  OK UNNEEDED, same version exists in internal repository
nebbiolo1 Linux (Ubuntu 20.04.1 LTS) / x86_64  OK  OK  NA 
tokay1 Windows Server 2012 R2 Standard / x64  OK  OK  OK  OK UNNEEDED, same version exists in internal repository
merida1 macOS 10.14.6 Mojave / x86_64  OK  OK  OK [ OK ]UNNEEDED, same version exists in internal repository

Summary

Package: BioMM
Version: 1.5.2
Command: rm -rf BioMM.buildbin-libdir && mkdir BioMM.buildbin-libdir && /Users/biocbuild/BBS/utils/build-universal.sh BioMM_1.5.2.tar.gz /Library/Frameworks/R.framework/Versions/Current/Resources/bin/R BioMM.buildbin-libdir
StartedAt: 2020-08-11 08:06:48 -0400 (Tue, 11 Aug 2020)
EndedAt: 2020-08-11 08:07:56 -0400 (Tue, 11 Aug 2020)
EllapsedTime: 68.6 seconds
RetCode: 0
Status:  OK 
PackageFile: BioMM_1.5.2.tgz
PackageFileSize: 4.779 MiB

Command output

##############################################################################
##############################################################################
###
### Running command:
###
###   rm -rf BioMM.buildbin-libdir && mkdir BioMM.buildbin-libdir && /Users/biocbuild/BBS/utils/build-universal.sh BioMM_1.5.2.tar.gz /Library/Frameworks/R.framework/Versions/Current/Resources/bin/R BioMM.buildbin-libdir
###
##############################################################################
##############################################################################


>>>>>>> 
>>>>>>> INSTALLATION WITH 'R CMD INSTALL --preclean --no-multiarch --library=BioMM.buildbin-libdir BioMM_1.5.2.tar.gz'
>>>>>>> 

* installing *source* package ‘BioMM’ ...
** using staged installation
** R
** inst
** byte-compile and prepare package for lazy loading
** help
*** installing help indices
** building package indices
** installing vignettes
** testing if installed package can be loaded from temporary location
** testing if installed package can be loaded from final location
** testing if installed package keeps a record of temporary installation path
* DONE (BioMM)