Back to Multiple platform build/check report for BioC 3.12
AB[C]DEFGHIJKLMNOPQRSTUVWXYZ

BUILD BIN report for CexoR on merida1

This page was generated on 2020-10-25 12:13:02 -0400 (Sun, 25 Oct 2020).

TO THE DEVELOPERS/MAINTAINERS OF THE CexoR PACKAGE: Please make sure to use the following settings in order to reproduce any error or warning you see on this page.
Package 264/1974HostnameOS / ArchINSTALLBUILDCHECKBUILD BIN
CexoR 1.27.1
Pedro Madrigal
Snapshot Date: 2020-10-24 14:40:19 -0400 (Sat, 24 Oct 2020)
URL: https://git.bioconductor.org/packages/CexoR
Branch: master
Last Commit: a9b251d
Last Changed Date: 2020-06-30 07:24:53 -0400 (Tue, 30 Jun 2020)
malbec1 Linux (Ubuntu 18.04.4 LTS) / x86_64  OK  OK  OK UNNEEDED, same version exists in internal repository
nebbiolo1 Linux (Ubuntu 20.04.1 LTS) / x86_64  OK  OK  OK 
tokay1 Windows Server 2012 R2 Standard / x64  OK  OK  OK  OK UNNEEDED, same version exists in internal repository
riesling1 Windows Server 2019 Standard / x64  OK  OK  OK  OK 
merida1 macOS 10.14.6 Mojave / x86_64  OK  OK  OK [ OK ]UNNEEDED, same version exists in internal repository

Summary

Package: CexoR
Version: 1.27.1
Command: rm -rf CexoR.buildbin-libdir && mkdir CexoR.buildbin-libdir && /Users/biocbuild/BBS/utils/build-universal.sh CexoR_1.27.1.tar.gz /Library/Frameworks/R.framework/Versions/Current/Resources/bin/R CexoR.buildbin-libdir
StartedAt: 2020-10-25 07:29:57 -0400 (Sun, 25 Oct 2020)
EndedAt: 2020-10-25 07:31:01 -0400 (Sun, 25 Oct 2020)
EllapsedTime: 64.4 seconds
RetCode: 0
Status:  OK 
PackageFile: CexoR_1.27.1.tgz
PackageFileSize: 1.683 MiB

Command output

##############################################################################
##############################################################################
###
### Running command:
###
###   rm -rf CexoR.buildbin-libdir && mkdir CexoR.buildbin-libdir && /Users/biocbuild/BBS/utils/build-universal.sh CexoR_1.27.1.tar.gz /Library/Frameworks/R.framework/Versions/Current/Resources/bin/R CexoR.buildbin-libdir
###
##############################################################################
##############################################################################


>>>>>>> 
>>>>>>> INSTALLATION WITH 'R CMD INSTALL --preclean --no-multiarch --library=CexoR.buildbin-libdir CexoR_1.27.1.tar.gz'
>>>>>>> 

* installing *source* package ‘CexoR’ ...
** using staged installation
** R
** inst
** byte-compile and prepare package for lazy loading
** help
*** installing help indices
** building package indices
** installing vignettes
** testing if installed package can be loaded from temporary location
** testing if installed package can be loaded from final location
** testing if installed package keeps a record of temporary installation path
* DONE (CexoR)