Back to Multiple platform build/check report for BioC 3.12
A[B]CDEFGHIJKLMNOPQRSTUVWXYZ

BUILD report for bioassayR on tokay1

This page was generated on 2021-04-14 12:10:28 -0400 (Wed, 14 Apr 2021).

To the developers/maintainers of the bioassayR package:
Please make sure to use the following settings in order to reproduce any error or warning you see on this page.
Package 151/1974HostnameOS / ArchINSTALLBUILDCHECKBUILD BIN
bioassayR 1.28.2  (landing page)
Daniela Cassol
Snapshot Date: 2021-04-13 14:50:13 -0400 (Tue, 13 Apr 2021)
URL: https://git.bioconductor.org/packages/bioassayR
Branch: RELEASE_3_12
Last Commit: 75eb25d
Last Changed Date: 2021-02-26 15:47:36 -0400 (Fri, 26 Feb 2021)
malbec1Linux (Ubuntu 18.04.5 LTS) / x86_64  OK    OK    OK  UNNEEDED, same version exists in internal repository
tokay1Windows Server 2012 R2 Standard / x64  OK    OK    WARNINGS    OK  UNNEEDED, same version exists in internal repository
merida1macOS 10.14.6 Mojave / x86_64  OK    OK    WARNINGS    OK  UNNEEDED, same version exists in internal repository

Summary

Package: bioassayR
Version: 1.28.2
Command: chmod a+r bioassayR -R && C:\Users\biocbuild\bbs-3.12-bioc\R\bin\R.exe CMD build --keep-empty-dirs --no-resave-data bioassayR
StartedAt: 2021-04-13 19:40:58 -0400 (Tue, 13 Apr 2021)
EndedAt: 2021-04-13 19:42:35 -0400 (Tue, 13 Apr 2021)
EllapsedTime: 97.6 seconds
RetCode: 0
Status:   OK   
PackageFile: bioassayR_1.28.2.tar.gz
PackageFileSize: 4.323 MiB

Command output

##############################################################################
##############################################################################
###
### Running command:
###
###   chmod a+r bioassayR -R && C:\Users\biocbuild\bbs-3.12-bioc\R\bin\R.exe CMD build --keep-empty-dirs --no-resave-data bioassayR
###
##############################################################################
##############################################################################


* checking for file 'bioassayR/DESCRIPTION' ... OK
* preparing 'bioassayR':
* checking DESCRIPTION meta-information ... OK
* installing the package to build vignettes
* creating vignettes ... OK
* checking for LF line-endings in source and make files and shell scripts
* checking for empty or unneeded directories
* looking to see if a 'data/datalist' file should be added
* building 'bioassayR_1.28.2.tar.gz'