Back to Multiple platform build/check report for BioC 3.12
AB[C]DEFGHIJKLMNOPQRSTUVWXYZ

BUILD report for CHETAH on tokay1

This page was generated on 2021-04-14 12:10:40 -0400 (Wed, 14 Apr 2021).

To the developers/maintainers of the CHETAH package:
Please make sure to use the following settings in order to reproduce any error or warning you see on this page.
Package 277/1974HostnameOS / ArchINSTALLBUILDCHECKBUILD BIN
CHETAH 1.6.0  (landing page)
Jurrian de Kanter
Snapshot Date: 2021-04-13 14:50:13 -0400 (Tue, 13 Apr 2021)
URL: https://git.bioconductor.org/packages/CHETAH
Branch: RELEASE_3_12
Last Commit: cd3dd78
Last Changed Date: 2020-10-27 11:43:50 -0400 (Tue, 27 Oct 2020)
malbec1Linux (Ubuntu 18.04.5 LTS) / x86_64  OK    OK    OK  UNNEEDED, same version exists in internal repository
tokay1Windows Server 2012 R2 Standard / x64  OK    OK    OK    OK  UNNEEDED, same version exists in internal repository
merida1macOS 10.14.6 Mojave / x86_64  OK    OK    OK    OK  UNNEEDED, same version exists in internal repository

Summary

Package: CHETAH
Version: 1.6.0
Command: chmod a+r CHETAH -R && C:\Users\biocbuild\bbs-3.12-bioc\R\bin\R.exe CMD build --keep-empty-dirs --no-resave-data CHETAH
StartedAt: 2021-04-13 20:05:40 -0400 (Tue, 13 Apr 2021)
EndedAt: 2021-04-13 20:06:55 -0400 (Tue, 13 Apr 2021)
EllapsedTime: 75.7 seconds
RetCode: 0
Status:   OK   
PackageFile: CHETAH_1.6.0.tar.gz
PackageFileSize: 3.527 MiB

Command output

##############################################################################
##############################################################################
###
### Running command:
###
###   chmod a+r CHETAH -R && C:\Users\biocbuild\bbs-3.12-bioc\R\bin\R.exe CMD build --keep-empty-dirs --no-resave-data CHETAH
###
##############################################################################
##############################################################################


* checking for file 'CHETAH/DESCRIPTION' ... OK
* preparing 'CHETAH':
* checking DESCRIPTION meta-information ... OK
* installing the package to build vignettes
* creating vignettes ... OK
* checking for LF line-endings in source and make files and shell scripts
* checking for empty or unneeded directories
* building 'CHETAH_1.6.0.tar.gz'