Back to Multiple platform build/check report for BioC 3.12
ABCDEFGHIJKLMNOPQR[S]TUVWXYZ

Multiple platform build/check report for BioC 3.12

Results for package Structstrings

This page was generated on 2021-03-03 12:09:09 -0500 (Wed, 03 Mar 2021).

Package 1808/1974HostnameOS / ArchINSTALLBUILDCHECKBUILD BIN
Structstrings 1.6.1
Felix G.M. Ernst
Snapshot Date: 2021-03-02 14:50:31 -0500 (Tue, 02 Mar 2021)
URL: https://git.bioconductor.org/packages/Structstrings
Branch: RELEASE_3_12
Last Commit: 47bf2ec
Last Changed Date: 2020-12-09 12:52:50 -0500 (Wed, 09 Dec 2020)
malbec1Linux (Ubuntu 18.04.5 LTS) / x86_64  OK    OK    OK  UNNEEDED, same version exists in internal repository
nebbiolo1Linux (Ubuntu 20.04.2 LTS) / x86_64  OK    OK    OK  
tokay1Windows Server 2012 R2 Standard / x64  OK    OK    OK    OK  UNNEEDED, same version exists in internal repository
merida1macOS 10.14.6 Mojave / x86_64  OK    OK    OK    OK  UNNEEDED, same version exists in internal repository