Back to Multiple platform build/check report for BioC 3.12 |
|
This page was generated on 2021-05-06 12:29:58 -0400 (Thu, 06 May 2021).
To the developers/maintainers of the bamsignals package: Please make sure to use the following settings in order to reproduce any error or warning you see on this page. |
Package 113/1974 | Hostname | OS / Arch | INSTALL | BUILD | CHECK | BUILD BIN | ||||||||
bamsignals 1.22.0 (landing page) Johannes Helmuth
| malbec1 | Linux (Ubuntu 18.04.5 LTS) / x86_64 | OK | OK | OK | |||||||||
tokay1 | Windows Server 2012 R2 Standard / x64 | OK | OK | OK | OK | |||||||||
merida1 | macOS 10.14.6 Mojave / x86_64 | OK | OK | OK | OK | |||||||||
Package: bamsignals |
Version: 1.22.0 |
Command: rm -rf bamsignals.buildbin-libdir && mkdir bamsignals.buildbin-libdir && C:\Users\biocbuild\bbs-3.12-bioc\R\bin\R.exe CMD INSTALL --merge-multiarch --build --library=bamsignals.buildbin-libdir bamsignals_1.22.0.tar.gz |
StartedAt: 2021-05-06 08:29:20 -0400 (Thu, 06 May 2021) |
EndedAt: 2021-05-06 08:31:02 -0400 (Thu, 06 May 2021) |
EllapsedTime: 101.8 seconds |
RetCode: 0 |
Status: OK |
PackageFile: bamsignals_1.22.0.zip |
PackageFileSize: 4.844 MiB |
############################################################################## ############################################################################## ### ### Running command: ### ### rm -rf bamsignals.buildbin-libdir && mkdir bamsignals.buildbin-libdir && C:\Users\biocbuild\bbs-3.12-bioc\R\bin\R.exe CMD INSTALL --merge-multiarch --build --library=bamsignals.buildbin-libdir bamsignals_1.22.0.tar.gz ### ############################################################################## ############################################################################## install for i386 * installing *source* package 'bamsignals' ... ** using staged installation ** libs "C:/rtools40/mingw32/bin/"g++ -std=gnu++11 -I"C:/Users/BIOCBU~1/BBS-3~1.12-/R/include" -DNDEBUG -I'C:/Users/biocbuild/bbs-3.12-bioc/R/library/Rcpp/include' -I'C:/Users/biocbuild/bbs-3.12-bioc/R/library/Rhtslib/include' -I'C:/Users/biocbuild/bbs-3.12-bioc/R/library/zlibbioc/include' -I"C:/extsoft/include" -O2 -Wall -mfpmath=sse -msse2 -mstackrealign -c CountSignals.cpp -o CountSignals.o "C:/rtools40/mingw32/bin/"g++ -std=gnu++11 -I"C:/Users/BIOCBU~1/BBS-3~1.12-/R/include" -DNDEBUG -I'C:/Users/biocbuild/bbs-3.12-bioc/R/library/Rcpp/include' -I'C:/Users/biocbuild/bbs-3.12-bioc/R/library/Rhtslib/include' -I'C:/Users/biocbuild/bbs-3.12-bioc/R/library/zlibbioc/include' -I"C:/extsoft/include" -O2 -Wall -mfpmath=sse -msse2 -mstackrealign -c RcppExports.cpp -o RcppExports.o "C:/rtools40/mingw32/bin/"g++ -std=gnu++11 -I"C:/Users/BIOCBU~1/BBS-3~1.12-/R/include" -DNDEBUG -I'C:/Users/biocbuild/bbs-3.12-bioc/R/library/Rcpp/include' -I'C:/Users/biocbuild/bbs-3.12-bioc/R/library/Rhtslib/include' -I'C:/Users/biocbuild/bbs-3.12-bioc/R/library/zlibbioc/include' -I"C:/extsoft/include" -O2 -Wall -mfpmath=sse -msse2 -mstackrealign -c bamsignals.cpp -o bamsignals.o bamsignals.cpp: In function 'bool writeSamAsBamAndIndex(const string&, const string&)': bamsignals.cpp:499:9: warning: variable 'iorval' set but not used [-Wunused-but-set-variable] int iorval; ^~~~~~ "C:/rtools40/mingw32/bin/"gcc -I"C:/Users/BIOCBU~1/BBS-3~1.12-/R/include" -DNDEBUG -I'C:/Users/biocbuild/bbs-3.12-bioc/R/library/Rcpp/include' -I'C:/Users/biocbuild/bbs-3.12-bioc/R/library/Rhtslib/include' -I'C:/Users/biocbuild/bbs-3.12-bioc/R/library/zlibbioc/include' -I"C:/extsoft/include" -O2 -Wall -std=gnu99 -mfpmath=sse -msse2 -mstackrealign -c bamsignals_init.c -o bamsignals_init.o C:/rtools40/mingw32/bin/g++ -std=gnu++11 -shared -s -static-libgcc -o bamsignals.dll tmp.def CountSignals.o RcppExports.o bamsignals.o bamsignals_init.o C:/Users/biocbuild/bbs-3.12-bioc/R/library/Rhtslib/usrlib/i386/libhts.a -LC:/extsoft/lib/i386 -lcurl -lrtmp -lssl -lssh2 -lcrypto -lgdi32 -lz -lws2_32 -lwldap32 -lwinmm -lidn -LC:/extsoft/lib/i386 -LC:/extsoft/lib -LC:/Users/BIOCBU~1/BBS-3~1.12-/R/bin/i386 -lR installing to C:/Users/biocbuild/bbs-3.12-bioc/meat/bamsignals.buildbin-libdir/00LOCK-bamsignals/00new/bamsignals/libs/i386 ** R ** inst ** byte-compile and prepare package for lazy loading ** help *** installing help indices converting help for package 'bamsignals' finding HTML links ... done CountSignals-class html as.list.CountSignals html bamsignals-methods html bamsignals html ** building package indices ** installing vignettes ** testing if installed package can be loaded from temporary location ** testing if installed package can be loaded from final location ** testing if installed package keeps a record of temporary installation path install for x64 * installing *source* package 'bamsignals' ... ** libs "C:/rtools40/mingw64/bin/"g++ -std=gnu++11 -I"C:/Users/BIOCBU~1/BBS-3~1.12-/R/include" -DNDEBUG -I'C:/Users/biocbuild/bbs-3.12-bioc/R/library/Rcpp/include' -I'C:/Users/biocbuild/bbs-3.12-bioc/R/library/Rhtslib/include' -I'C:/Users/biocbuild/bbs-3.12-bioc/R/library/zlibbioc/include' -I"C:/extsoft/include" -O2 -Wall -mfpmath=sse -msse2 -mstackrealign -c CountSignals.cpp -o CountSignals.o "C:/rtools40/mingw64/bin/"g++ -std=gnu++11 -I"C:/Users/BIOCBU~1/BBS-3~1.12-/R/include" -DNDEBUG -I'C:/Users/biocbuild/bbs-3.12-bioc/R/library/Rcpp/include' -I'C:/Users/biocbuild/bbs-3.12-bioc/R/library/Rhtslib/include' -I'C:/Users/biocbuild/bbs-3.12-bioc/R/library/zlibbioc/include' -I"C:/extsoft/include" -O2 -Wall -mfpmath=sse -msse2 -mstackrealign -c RcppExports.cpp -o RcppExports.o "C:/rtools40/mingw64/bin/"g++ -std=gnu++11 -I"C:/Users/BIOCBU~1/BBS-3~1.12-/R/include" -DNDEBUG -I'C:/Users/biocbuild/bbs-3.12-bioc/R/library/Rcpp/include' -I'C:/Users/biocbuild/bbs-3.12-bioc/R/library/Rhtslib/include' -I'C:/Users/biocbuild/bbs-3.12-bioc/R/library/zlibbioc/include' -I"C:/extsoft/include" -O2 -Wall -mfpmath=sse -msse2 -mstackrealign -c bamsignals.cpp -o bamsignals.o bamsignals.cpp: In function 'bool writeSamAsBamAndIndex(const string&, const string&)': bamsignals.cpp:499:9: warning: variable 'iorval' set but not used [-Wunused-but-set-variable] int iorval; ^~~~~~ "C:/rtools40/mingw64/bin/"gcc -I"C:/Users/BIOCBU~1/BBS-3~1.12-/R/include" -DNDEBUG -I'C:/Users/biocbuild/bbs-3.12-bioc/R/library/Rcpp/include' -I'C:/Users/biocbuild/bbs-3.12-bioc/R/library/Rhtslib/include' -I'C:/Users/biocbuild/bbs-3.12-bioc/R/library/zlibbioc/include' -I"C:/extsoft/include" -O2 -Wall -std=gnu99 -mfpmath=sse -msse2 -mstackrealign -c bamsignals_init.c -o bamsignals_init.o C:/rtools40/mingw64/bin/g++ -std=gnu++11 -shared -s -static-libgcc -o bamsignals.dll tmp.def CountSignals.o RcppExports.o bamsignals.o bamsignals_init.o C:/Users/biocbuild/bbs-3.12-bioc/R/library/Rhtslib/usrlib/x64/libhts.a -LC:/extsoft/lib/x64 -lcurl -lrtmp -lssl -lssh2 -lcrypto -lgdi32 -lz -lws2_32 -lwldap32 -lwinmm -LC:/extsoft/lib/x64 -LC:/extsoft/lib -LC:/Users/BIOCBU~1/BBS-3~1.12-/R/bin/x64 -lR installing to C:/Users/biocbuild/bbs-3.12-bioc/meat/bamsignals.buildbin-libdir/bamsignals/libs/x64 ** testing if installed package can be loaded * MD5 sums packaged installation of 'bamsignals' as bamsignals_1.22.0.zip * DONE (bamsignals)