Back to Multiple platform build/check report for BioC 3.12
AB[C]DEFGHIJKLMNOPQRSTUVWXYZ

BUILD BIN report for CFAssay on tokay1

This page was generated on 2020-10-27 11:55:39 -0400 (Tue, 27 Oct 2020).

TO THE DEVELOPERS/MAINTAINERS OF THE CFAssay PACKAGE: Please make sure to use the following settings in order to reproduce any error or warning you see on this page.
Package 265/1974HostnameOS / ArchINSTALLBUILDCHECKBUILD BIN
CFAssay 1.23.0
Herbert Braselmann
Snapshot Date: 2020-10-26 14:42:55 -0400 (Mon, 26 Oct 2020)
URL: https://git.bioconductor.org/packages/CFAssay
Branch: master
Last Commit: bc395b1
Last Changed Date: 2020-04-27 14:45:10 -0400 (Mon, 27 Apr 2020)
malbec1 Linux (Ubuntu 18.04.4 LTS) / x86_64  OK  OK  OK UNNEEDED, same version exists in internal repository
nebbiolo1 Linux (Ubuntu 20.04.1 LTS) / x86_64  OK  OK  OK 
tokay1 Windows Server 2012 R2 Standard / x64  OK  OK  OK [ OK ]UNNEEDED, same version exists in internal repository
riesling1 Windows Server 2019 Standard / x64  OK  OK  OK  OK 
merida1 macOS 10.14.6 Mojave / x86_64  OK  OK  OK  OK UNNEEDED, same version exists in internal repository

Summary

Package: CFAssay
Version: 1.23.0
Command: rm -rf CFAssay.buildbin-libdir && mkdir CFAssay.buildbin-libdir && C:\Users\biocbuild\bbs-3.12-bioc\R\bin\R.exe CMD INSTALL --merge-multiarch --build --library=CFAssay.buildbin-libdir CFAssay_1.23.0.tar.gz
StartedAt: 2020-10-27 08:43:40 -0400 (Tue, 27 Oct 2020)
EndedAt: 2020-10-27 08:44:39 -0400 (Tue, 27 Oct 2020)
EllapsedTime: 59.4 seconds
RetCode: 0
Status:  OK  
PackageFile: CFAssay_1.23.0.zip
PackageFileSize: 323.7 KiB

Command output

##############################################################################
##############################################################################
###
### Running command:
###
###   rm -rf CFAssay.buildbin-libdir && mkdir CFAssay.buildbin-libdir && C:\Users\biocbuild\bbs-3.12-bioc\R\bin\R.exe CMD INSTALL --merge-multiarch --build --library=CFAssay.buildbin-libdir CFAssay_1.23.0.tar.gz
###
##############################################################################
##############################################################################



install for i386

* installing *source* package 'CFAssay' ...
** using staged installation
** R
** inst
** byte-compile and prepare package for lazy loading
** help
*** installing help indices
  converting help for package 'CFAssay'
    finding HTML links ... done
    cellsurvLQdiff                          html  
    cellsurvLQfit                           html  
    cfa2way                                 html  
    pes                                     html  
    plot.cellsurvLQfit                      html  
    plotExp                                 html  
    plotExp.cellsurvLQfit                   html  
    plotExp.cfa2way                         html  
    plotExp.default                         html  
    print.cellsurvLQdiff                    html  
    print.cellsurvLQfit                     html  
    print.cfa2way                           html  
    sfpmean                                 html  
** building package indices
** installing vignettes
** testing if installed package can be loaded from temporary location
** testing if installed package can be loaded from final location
** testing if installed package keeps a record of temporary installation path

install for x64

* installing *source* package 'CFAssay' ...
** testing if installed package can be loaded
* MD5 sums
packaged installation of 'CFAssay' as CFAssay_1.23.0.zip
* DONE (CFAssay)