Back to Multiple platform build/check report for BioC 3.12
A[B]CDEFGHIJKLMNOPQRSTUVWXYZ

CHECK report for basecallQC on merida1

This page was generated on 2020-10-24 11:07:48 -0400 (Sat, 24 Oct 2020).

TO THE DEVELOPERS/MAINTAINERS OF THE basecallQC PACKAGE: Please make sure to use the following settings in order to reproduce any error or warning you see on this page.
Package 116/1974HostnameOS / ArchINSTALLBUILDCHECKBUILD BIN
basecallQC 1.13.0
Thomas Carroll
Snapshot Date: 2020-10-23 14:40:36 -0400 (Fri, 23 Oct 2020)
URL: https://git.bioconductor.org/packages/basecallQC
Branch: master
Last Commit: 63dc0f4
Last Changed Date: 2020-04-27 15:06:59 -0400 (Mon, 27 Apr 2020)
malbec1 Linux (Ubuntu 18.04.4 LTS) / x86_64  OK  OK  OK UNNEEDED, same version exists in internal repository
nebbiolo1 Linux (Ubuntu 20.04.1 LTS) / x86_64  OK  OK  OK 
tokay1 Windows Server 2012 R2 Standard / x64  OK  OK  OK  OK UNNEEDED, same version exists in internal repository
riesling1 Windows Server 2019 Standard / x64  OK  OK  OK  OK 
merida1 macOS 10.14.6 Mojave / x86_64  OK  OK [ OK ] OK UNNEEDED, same version exists in internal repository

Summary

Package: basecallQC
Version: 1.13.0
Command: /Library/Frameworks/R.framework/Versions/Current/Resources/bin/R CMD check --install=check:basecallQC.install-out.txt --library=/Library/Frameworks/R.framework/Versions/Current/Resources/library --no-vignettes --timings basecallQC_1.13.0.tar.gz
StartedAt: 2020-10-23 23:26:05 -0400 (Fri, 23 Oct 2020)
EndedAt: 2020-10-23 23:32:40 -0400 (Fri, 23 Oct 2020)
EllapsedTime: 395.2 seconds
RetCode: 0
Status:  OK 
CheckDir: basecallQC.Rcheck
Warnings: 0

Command output

##############################################################################
##############################################################################
###
### Running command:
###
###   /Library/Frameworks/R.framework/Versions/Current/Resources/bin/R CMD check --install=check:basecallQC.install-out.txt --library=/Library/Frameworks/R.framework/Versions/Current/Resources/library --no-vignettes --timings basecallQC_1.13.0.tar.gz
###
##############################################################################
##############################################################################


* using log directory ‘/Users/biocbuild/bbs-3.12-bioc/meat/basecallQC.Rcheck’
* using R version 4.0.3 (2020-10-10)
* using platform: x86_64-apple-darwin17.0 (64-bit)
* using session charset: UTF-8
* using option ‘--no-vignettes’
* checking for file ‘basecallQC/DESCRIPTION’ ... OK
* checking extension type ... Package
* this is package ‘basecallQC’ version ‘1.13.0’
* checking package namespace information ... OK
* checking package dependencies ... OK
* checking if this is a source package ... OK
* checking if there is a namespace ... OK
* checking for hidden files and directories ... OK
* checking for portable file names ... OK
* checking for sufficient/correct file permissions ... OK
* checking whether package ‘basecallQC’ can be installed ... OK
* checking installed package size ... OK
* checking package directory ... OK
* checking ‘build’ directory ... OK
* checking DESCRIPTION meta-information ... OK
* checking top-level files ... OK
* checking for left-over files ... OK
* checking index information ... OK
* checking package subdirectories ... OK
* checking R files for non-ASCII characters ... OK
* checking R files for syntax errors ... OK
* checking whether the package can be loaded ... OK
* checking whether the package can be loaded with stated dependencies ... OK
* checking whether the package can be unloaded cleanly ... OK
* checking whether the namespace can be loaded with stated dependencies ... OK
* checking whether the namespace can be unloaded cleanly ... OK
* checking dependencies in R code ... OK
* checking S3 generic/method consistency ... OK
* checking replacement functions ... OK
* checking foreign function calls ... OK
* checking R code for possible problems ... OK
* checking Rd files ... OK
* checking Rd metadata ... OK
* checking Rd cross-references ... OK
* checking for missing documentation entries ... OK
* checking for code/documentation mismatches ... OK
* checking Rd \usage sections ... OK
* checking Rd contents ... OK
* checking for unstated dependencies in examples ... OK
* checking files in ‘vignettes’ ... OK
* checking examples ... OK
Examples with CPU (user + system) or elapsed time > 5s
                        user system elapsed
reportBCL             14.009  0.253  14.515
summaryConvStatsTable 10.146  0.044  10.207
summaryDemuxTable      9.921  0.040  10.207
passFilterTileplot     9.031  0.036   9.077
passFilterBoxplot      8.450  0.030   8.492
makeFQTable            7.996  0.046   8.058
passFilterBar          7.844  0.030   7.886
demuxBoxplot           7.115  0.028   7.152
baseCallMetrics        6.435  0.076   6.512
demuxBarplot           6.318  0.019   6.340
basecallQC             6.141  0.024   6.166
* checking for unstated dependencies in ‘tests’ ... OK
* checking tests ...
  Running ‘testthat.R’
 OK
* checking for unstated dependencies in vignettes ... OK
* checking package vignettes in ‘inst/doc’ ... OK
* checking running R code from vignettes ... SKIPPED
* checking re-building of vignette outputs ... SKIPPED
* checking PDF version of manual ... OK
* DONE

Status: OK


Installation output

basecallQC.Rcheck/00install.out

##############################################################################
##############################################################################
###
### Running command:
###
###   /Library/Frameworks/R.framework/Versions/Current/Resources/bin/R CMD INSTALL basecallQC
###
##############################################################################
##############################################################################


* installing to library ‘/Library/Frameworks/R.framework/Versions/4.0/Resources/library’
* installing *source* package ‘basecallQC’ ...
** using staged installation
** R
** inst
** byte-compile and prepare package for lazy loading
** help
*** installing help indices
** building package indices
** installing vignettes
** testing if installed package can be loaded from temporary location
** testing if installed package can be loaded from final location
** testing if installed package keeps a record of temporary installation path
* DONE (basecallQC)

Tests output

basecallQC.Rcheck/tests/testthat.Rout


R version 4.0.3 (2020-10-10) -- "Bunny-Wunnies Freak Out"
Copyright (C) 2020 The R Foundation for Statistical Computing
Platform: x86_64-apple-darwin17.0 (64-bit)

R is free software and comes with ABSOLUTELY NO WARRANTY.
You are welcome to redistribute it under certain conditions.
Type 'license()' or 'licence()' for distribution details.

R is a collaborative project with many contributors.
Type 'contributors()' for more information and
'citation()' on how to cite R or R packages in publications.

Type 'demo()' for some demos, 'help()' for on-line help, or
'help.start()' for an HTML browser interface to help.
Type 'q()' to quit R.

> library(testthat)
> library(basecallQC)
Loading required package: rmarkdown
Loading required package: knitr
Loading required package: prettydoc
Loading required package: yaml
> 
> test_check("basecallQC")
══ testthat results  ═══════════════════════════════════════════════════════════
[ OK: 5 | SKIPPED: 0 | WARNINGS: 13 | FAILED: 0 ]
> 
> proc.time()
   user  system elapsed 
 32.374   0.926  33.345 

Example timings

basecallQC.Rcheck/basecallQC-Ex.timings

nameusersystemelapsed
BCL2FastQparams0.2280.0250.255
baseCallMetrics6.4350.0766.512
basecallQC6.1410.0246.166
createBCLcommand0.4290.0030.432
createBasemasks0.4280.0030.432
demultiplexMetrics0.0760.0010.077
demuxBarplot6.3180.0196.340
demuxBoxplot7.1150.0287.152
indexlengths0.0520.0010.055
interOpsReport0.0380.0010.040
makeFQTable7.9960.0468.058
passFilterBar7.8440.0307.886
passFilterBoxplot8.4500.0308.492
passFilterTileplot9.0310.0369.077
readlengths0.0490.0010.050
reportBCL14.009 0.25314.515
summaryConvStatsTable10.146 0.04410.207
summaryDemuxTable 9.921 0.04010.207
validateBCLSheet0.2030.0020.206