Back to Multiple platform build/check report for BioC 3.12
ABCDEFGHIJKLMNOPQ[R]STUVWXYZ

Multiple platform build/check report for BioC 3.12

Results for RNAmodR

This page was generated on 2020-10-24 10:56:04 -0400 (Sat, 24 Oct 2020).

Package 1549/1974HostnameOS / ArchINSTALLBUILDCHECKBUILD BIN
RNAmodR 1.3.5
Felix G.M. Ernst
Snapshot Date: 2020-10-23 14:40:36 -0400 (Fri, 23 Oct 2020)
URL: https://git.bioconductor.org/packages/RNAmodR
Branch: master
Last Commit: 52ae440
Last Changed Date: 2020-08-30 07:18:23 -0400 (Sun, 30 Aug 2020)
malbec1 Linux (Ubuntu 18.04.4 LTS) / x86_64  OK  OK  OK UNNEEDED, same version exists in internal repository
nebbiolo1 Linux (Ubuntu 20.04.1 LTS) / x86_64  OK  OK  OK 
tokay1 Windows Server 2012 R2 Standard / x64  OK  OK  OK  OK UNNEEDED, same version exists in internal repository
riesling1 Windows Server 2019 Standard / x64  OK  OK  OK  OK 
merida1 macOS 10.14.6 Mojave / x86_64  OK  OK  OK  OK UNNEEDED, same version exists in internal repository