Back to Multiple platform build/check report for BioC 3.12
[A]BCDEFGHIJKLMNOPQRSTUVWXYZ

BUILD report for a4Core on tokay1

This page was generated on 2020-08-13 11:36:06 -0400 (Thu, 13 Aug 2020).

TO THE DEVELOPERS/MAINTAINERS OF THE a4Core PACKAGE: Please make sure to use the following settings in order to reproduce any error or warning you see on this page.
Package 4/1885HostnameOS / ArchINSTALLBUILDCHECKBUILD BIN
a4Core 1.37.0
Tobias Verbeke
Snapshot Date: 2020-08-12 14:52:00 -0400 (Wed, 12 Aug 2020)
URL: https://git.bioconductor.org/packages/a4Core
Branch: master
Last Commit: aadbda6
Last Changed Date: 2020-04-27 14:25:26 -0400 (Mon, 27 Apr 2020)
malbec1 Linux (Ubuntu 18.04.4 LTS) / x86_64  OK  OK  OK UNNEEDED, same version exists in internal repository
nebbiolo1 Linux (Ubuntu 20.04.1 LTS) / x86_64  OK  OK  OK 
tokay1 Windows Server 2012 R2 Standard / x64  OK [ OK ] OK  OK UNNEEDED, same version exists in internal repository
merida1 macOS 10.14.6 Mojave / x86_64  OK  OK  OK  OK UNNEEDED, same version exists in internal repository

Summary

Package: a4Core
Version: 1.37.0
Command: chmod a+r a4Core -R && C:\Users\biocbuild\bbs-3.12-bioc\R\bin\R.exe CMD build --keep-empty-dirs --no-resave-data a4Core
StartedAt: 2020-08-12 19:37:53 -0400 (Wed, 12 Aug 2020)
EndedAt: 2020-08-12 19:38:06 -0400 (Wed, 12 Aug 2020)
EllapsedTime: 13.2 seconds
RetCode: 0
Status:  OK  
PackageFile: a4Core_1.37.0.tar.gz
PackageFileSize: 3.57 KiB

Command output

##############################################################################
##############################################################################
###
### Running command:
###
###   chmod a+r a4Core -R && C:\Users\biocbuild\bbs-3.12-bioc\R\bin\R.exe CMD build --keep-empty-dirs --no-resave-data a4Core
###
##############################################################################
##############################################################################


* checking for file 'a4Core/DESCRIPTION' ... OK
* preparing 'a4Core':
* checking DESCRIPTION meta-information ... OK
* checking for LF line-endings in source and make files and shell scripts
* checking for empty or unneeded directories
* building 'a4Core_1.37.0.tar.gz'