Back to Multiple platform build/check report for BioC 3.12
A[B]CDEFGHIJKLMNOPQRSTUVWXYZ

BUILD BIN report for BRGenomics on tokay1

This page was generated on 2020-08-14 11:08:54 -0400 (Fri, 14 Aug 2020).

TO THE DEVELOPERS/MAINTAINERS OF THE BRGenomics PACKAGE: Please make sure to use the following settings in order to reproduce any error or warning you see on this page.
Package 198/1889HostnameOS / ArchINSTALLBUILDCHECKBUILD BIN
BRGenomics 1.1.2
Mike DeBerardine
Snapshot Date: 2020-08-13 14:54:37 -0400 (Thu, 13 Aug 2020)
URL: https://git.bioconductor.org/packages/BRGenomics
Branch: master
Last Commit: 932ee49
Last Changed Date: 2020-05-15 19:52:35 -0400 (Fri, 15 May 2020)
malbec1 Linux (Ubuntu 18.04.4 LTS) / x86_64  OK  OK  OK UNNEEDED, same version exists in internal repository
nebbiolo1 Linux (Ubuntu 20.04.1 LTS) / x86_64  OK  OK  OK 
tokay1 Windows Server 2012 R2 Standard / x64  OK  OK  OK [ OK ]UNNEEDED, same version exists in internal repository
merida1 macOS 10.14.6 Mojave / x86_64  OK  OK  OK  OK UNNEEDED, same version exists in internal repository

Summary

Package: BRGenomics
Version: 1.1.2
Command: rm -rf BRGenomics.buildbin-libdir && mkdir BRGenomics.buildbin-libdir && C:\Users\biocbuild\bbs-3.12-bioc\R\bin\R.exe CMD INSTALL --merge-multiarch --build --library=BRGenomics.buildbin-libdir BRGenomics_1.1.2.tar.gz
StartedAt: 2020-08-14 08:50:46 -0400 (Fri, 14 Aug 2020)
EndedAt: 2020-08-14 08:51:33 -0400 (Fri, 14 Aug 2020)
EllapsedTime: 46.6 seconds
RetCode: 0
Status:  OK  
PackageFile: BRGenomics_1.1.2.zip
PackageFileSize: 3.682 MiB

Command output

##############################################################################
##############################################################################
###
### Running command:
###
###   rm -rf BRGenomics.buildbin-libdir && mkdir BRGenomics.buildbin-libdir && C:\Users\biocbuild\bbs-3.12-bioc\R\bin\R.exe CMD INSTALL --merge-multiarch --build --library=BRGenomics.buildbin-libdir BRGenomics_1.1.2.tar.gz
###
##############################################################################
##############################################################################



install for i386

* installing *source* package 'BRGenomics' ...
** using staged installation
** R
** data
** inst
** byte-compile and prepare package for lazy loading
** help
*** installing help indices
  converting help for package 'BRGenomics'
    finding HTML links ... done
    BRGenomics-package                      html  
    PROseq-data                             html  
    applyNFsGRanges                         html  
    binNDimensions                          html  
    bootstrap-signal-by-position            html  
    genebodies                              html  
    getCountsByPositions                    html  
    getCountsByRegions                      html  
    getDESeqDataSet                         html  
    getDESeqResults                         html  
    getMaxPositionsBySignal                 html  
    getPausingIndices                       html  
    getSpikeInCounts                        html  
    getSpikeInNFs                           html  
    getStrandedCoverage                     html  
    import-functions                        html  
    import_bam                              html  
    intersectByGene                         html  
    makeGRangesBRG                          html  
    mergeGRangesData                        html  
    mergeReplicates                         html  
    subsampleBySpikeIn                      html  
    subsampleGRanges                        html  
    subsetRegionsBySignal                   html  
    tidyChromosomes                         html  
    txs_dm6_chr4                            html  
** building package indices
** installing vignettes
** testing if installed package can be loaded from temporary location
** testing if installed package can be loaded from final location
** testing if installed package keeps a record of temporary installation path

install for x64

* installing *source* package 'BRGenomics' ...
** testing if installed package can be loaded
* MD5 sums
packaged installation of 'BRGenomics' as BRGenomics_1.1.2.zip
* DONE (BRGenomics)