Back to Multiple platform build/check report for BioC 3.12
[A]BCDEFGHIJKLMNOPQRSTUVWXYZ

INSTALL report for AgiMicroRna on merida1

This page was generated on 2021-01-19 11:56:50 -0500 (Tue, 19 Jan 2021).

TO THE DEVELOPERS/MAINTAINERS OF THE AgiMicroRna PACKAGE: Please make sure to use the following settings in order to reproduce any error or warning you see on this page.
Package 40/1974HostnameOS / ArchINSTALLBUILDCHECKBUILD BIN
AgiMicroRna 2.40.0
Pedro Lopez-Romero
Snapshot Date: 2021-01-18 14:42:24 -0500 (Mon, 18 Jan 2021)
URL: https://git.bioconductor.org/packages/AgiMicroRna
Branch: RELEASE_3_12
Last Commit: cfa4acb
Last Changed Date: 2020-10-27 10:36:25 -0500 (Tue, 27 Oct 2020)
malbec1 Linux (Ubuntu 18.04.5 LTS) / x86_64  OK  OK  OK UNNEEDED, same version exists in internal repository
nebbiolo1 Linux (Ubuntu 20.04.1 LTS) / x86_64  OK  OK  OK 
tokay1 Windows Server 2012 R2 Standard / x64  OK  OK  OK  OK UNNEEDED, same version exists in internal repository
merida1 macOS 10.14.6 Mojave / x86_64 [ OK ] OK  OK  OK UNNEEDED, same version exists in internal repository

Summary

Package: AgiMicroRna
Version: 2.40.0
Command: /Library/Frameworks/R.framework/Versions/Current/Resources/bin/R CMD INSTALL AgiMicroRna
StartedAt: 2021-01-18 17:39:52 -0500 (Mon, 18 Jan 2021)
EndedAt: 2021-01-18 17:41:01 -0500 (Mon, 18 Jan 2021)
EllapsedTime: 68.5 seconds
RetCode: 0
Status:  OK 

Command output

##############################################################################
##############################################################################
###
### Running command:
###
###   /Library/Frameworks/R.framework/Versions/Current/Resources/bin/R CMD INSTALL AgiMicroRna
###
##############################################################################
##############################################################################


* installing to library ‘/Library/Frameworks/R.framework/Versions/4.0/Resources/library’
* installing *source* package ‘AgiMicroRna’ ...
** using staged installation
** R
** data
** byte-compile and prepare package for lazy loading
** help
*** installing help indices
** building package indices
** installing vignettes
** testing if installed package can be loaded from temporary location
** testing if installed package can be loaded from final location
** testing if installed package keeps a record of temporary installation path
* DONE (AgiMicroRna)