Back to Multiple platform build/check report for BioC 3.12
[A]BCDEFGHIJKLMNOPQRSTUVWXYZ

BUILD BIN report for ATACseqQC on tokay1

This page was generated on 2020-08-07 12:11:53 -0400 (Fri, 07 Aug 2020).

TO THE DEVELOPERS/MAINTAINERS OF THE ATACseqQC PACKAGE: Please make sure to use the following settings in order to reproduce any error or warning you see on this page.
Package 93/1882HostnameOS / ArchINSTALLBUILDCHECKBUILD BIN
ATACseqQC 1.13.3
Jianhong Ou
Snapshot Date: 2020-08-06 14:50:46 -0400 (Thu, 06 Aug 2020)
URL: https://git.bioconductor.org/packages/ATACseqQC
Branch: master
Last Commit: 2996d20
Last Changed Date: 2020-05-29 21:55:02 -0400 (Fri, 29 May 2020)
malbec1 Linux (Ubuntu 18.04.4 LTS) / x86_64  OK  OK  OK UNNEEDED, same version exists in internal repository
tokay1 Windows Server 2012 R2 Standard / x64  OK  OK  OK [ OK ]UNNEEDED, same version exists in internal repository
merida1 macOS 10.14.6 Mojave / x86_64  OK  OK  OK  OK UNNEEDED, same version exists in internal repository

Summary

Package: ATACseqQC
Version: 1.13.3
Command: rm -rf ATACseqQC.buildbin-libdir && mkdir ATACseqQC.buildbin-libdir && C:\Users\biocbuild\bbs-3.12-bioc\R\bin\R.exe CMD INSTALL --merge-multiarch --build --library=ATACseqQC.buildbin-libdir ATACseqQC_1.13.3.tar.gz
StartedAt: 2020-08-07 08:11:42 -0400 (Fri, 07 Aug 2020)
EndedAt: 2020-08-07 08:12:57 -0400 (Fri, 07 Aug 2020)
EllapsedTime: 75.1 seconds
RetCode: 0
Status:  OK  
PackageFile: ATACseqQC_1.13.3.zip
PackageFileSize: 11.81 MiB

Command output

##############################################################################
##############################################################################
###
### Running command:
###
###   rm -rf ATACseqQC.buildbin-libdir && mkdir ATACseqQC.buildbin-libdir && C:\Users\biocbuild\bbs-3.12-bioc\R\bin\R.exe CMD INSTALL --merge-multiarch --build --library=ATACseqQC.buildbin-libdir ATACseqQC_1.13.3.tar.gz
###
##############################################################################
##############################################################################



install for i386

* installing *source* package 'ATACseqQC' ...
** using staged installation
** R
** inst
** byte-compile and prepare package for lazy loading
No methods found in package 'IRanges' for request: 'values' when loading 'GenomicScores'
** help
*** installing help indices
  converting help for package 'ATACseqQC'
    finding HTML links ... done
    ATACseqQC-package                       html  
    DB                                      html  
    NFRscore                                html  
    PTscore                                 html  
    TSSEscore                               html  
    bamQC                                   html  
    distanceDyad                            html  
    enrichedFragments                       html  
    estimateLibComplexity                   html  
    factorFootprints                        html  
    footprintsScanner                       html  
    fragSizeDist                            html  
    peakdet                                 html  
    plotCorrelation                         html  
    plotFootprints                          html  
    pwmscores                               html  
    readBamFile                             html  
    finding level-2 HTML links ... done

    readsDupFreq                            html  
    saturationPlot                          html  
    shiftGAlignments                        html  
    shiftGAlignmentsList                    html  
    shiftReads                              html  
    splitBam                                html  
    splitGAlignmentsByCut                   html  
    vPlot                                   html  
    writeListOfGAlignments                  html  
** building package indices
** installing vignettes
** testing if installed package can be loaded from temporary location
No methods found in package 'IRanges' for request: 'values' when loading 'GenomicScores'
** testing if installed package can be loaded from final location
No methods found in package 'IRanges' for request: 'values' when loading 'GenomicScores'
** testing if installed package keeps a record of temporary installation path

install for x64

* installing *source* package 'ATACseqQC' ...
** testing if installed package can be loaded
No methods found in package 'IRanges' for request: 'values' when loading 'GenomicScores'
* MD5 sums
packaged installation of 'ATACseqQC' as ATACseqQC_1.13.3.zip
* DONE (ATACseqQC)