Back to Multiple platform build/check report for BioC 3.12
A[B]CDEFGHIJKLMNOPQRSTUVWXYZ

BUILD report for BGmix on merida1

This page was generated on 2020-08-09 12:23:13 -0400 (Sun, 09 Aug 2020).

TO THE DEVELOPERS/MAINTAINERS OF THE BGmix PACKAGE: Please make sure to use the following settings in order to reproduce any error or warning you see on this page.
Package 134/1882HostnameOS / ArchINSTALLBUILDCHECKBUILD BIN
BGmix 1.49.0
Alex Lewin
Snapshot Date: 2020-08-08 14:51:01 -0400 (Sat, 08 Aug 2020)
URL: https://git.bioconductor.org/packages/BGmix
Branch: master
Last Commit: cd858ec
Last Changed Date: 2020-04-27 14:16:11 -0400 (Mon, 27 Apr 2020)
malbec1 Linux (Ubuntu 18.04.4 LTS) / x86_64  OK  OK  WARNINGS UNNEEDED, same version exists in internal repository
nebbiolo1 Linux (Ubuntu 20.04.1 LTS) / x86_64  OK  OK  WARNINGS 
tokay1 Windows Server 2012 R2 Standard / x64 ...NOT SUPPORTED...
merida1 macOS 10.14.6 Mojave / x86_64  OK [ OK ] OK  OK UNNEEDED, same version exists in internal repository

Summary

Package: BGmix
Version: 1.49.0
Command: /Library/Frameworks/R.framework/Versions/Current/Resources/bin/R CMD build --keep-empty-dirs --no-resave-data BGmix
StartedAt: 2020-08-08 18:04:22 -0400 (Sat, 08 Aug 2020)
EndedAt: 2020-08-08 18:04:53 -0400 (Sat, 08 Aug 2020)
EllapsedTime: 30.8 seconds
RetCode: 0
Status:  OK 
PackageFile: BGmix_1.49.0.tar.gz
PackageFileSize: 1.551 MiB

Command output

##############################################################################
##############################################################################
###
### Running command:
###
###   /Library/Frameworks/R.framework/Versions/Current/Resources/bin/R CMD build --keep-empty-dirs --no-resave-data BGmix
###
##############################################################################
##############################################################################


* checking for file ‘BGmix/DESCRIPTION’ ... OK
* preparing ‘BGmix’:
* checking DESCRIPTION meta-information ... OK
* cleaning src
* installing the package to build vignettes
* creating vignettes ... OK
* cleaning src
* checking for LF line-endings in source and make files and shell scripts
* checking for empty or unneeded directories
* looking to see if a ‘data/datalist’ file should be added
* building ‘BGmix_1.49.0.tar.gz’