Back to Multiple platform build/check report for BioC 3.12
AB[C]DEFGHIJKLMNOPQRSTUVWXYZ

BUILD BIN report for CellScore on merida1

This page was generated on 2020-10-24 11:07:59 -0400 (Sat, 24 Oct 2020).

TO THE DEVELOPERS/MAINTAINERS OF THE CellScore PACKAGE: Please make sure to use the following settings in order to reproduce any error or warning you see on this page.
Package 258/1974HostnameOS / ArchINSTALLBUILDCHECKBUILD BIN
CellScore 1.9.0
Nancy Mah
Snapshot Date: 2020-10-23 14:40:36 -0400 (Fri, 23 Oct 2020)
URL: https://git.bioconductor.org/packages/CellScore
Branch: master
Last Commit: c066da8
Last Changed Date: 2020-04-27 15:13:55 -0400 (Mon, 27 Apr 2020)
malbec1 Linux (Ubuntu 18.04.4 LTS) / x86_64  OK  OK  OK UNNEEDED, same version exists in internal repository
nebbiolo1 Linux (Ubuntu 20.04.1 LTS) / x86_64  OK  OK  OK 
tokay1 Windows Server 2012 R2 Standard / x64  OK  OK  OK  OK UNNEEDED, same version exists in internal repository
riesling1 Windows Server 2019 Standard / x64  OK  OK  OK  OK 
merida1 macOS 10.14.6 Mojave / x86_64  OK  OK  OK [ OK ]UNNEEDED, same version exists in internal repository

Summary

Package: CellScore
Version: 1.9.0
Command: rm -rf CellScore.buildbin-libdir && mkdir CellScore.buildbin-libdir && /Users/biocbuild/BBS/utils/build-universal.sh CellScore_1.9.0.tar.gz /Library/Frameworks/R.framework/Versions/Current/Resources/bin/R CellScore.buildbin-libdir
StartedAt: 2020-10-24 07:42:54 -0400 (Sat, 24 Oct 2020)
EndedAt: 2020-10-24 07:43:55 -0400 (Sat, 24 Oct 2020)
EllapsedTime: 61.3 seconds
RetCode: 0
Status:  OK 
PackageFile: CellScore_1.9.0.tgz
PackageFileSize: 4.248 MiB

Command output

##############################################################################
##############################################################################
###
### Running command:
###
###   rm -rf CellScore.buildbin-libdir && mkdir CellScore.buildbin-libdir && /Users/biocbuild/BBS/utils/build-universal.sh CellScore_1.9.0.tar.gz /Library/Frameworks/R.framework/Versions/Current/Resources/bin/R CellScore.buildbin-libdir
###
##############################################################################
##############################################################################


>>>>>>> 
>>>>>>> INSTALLATION WITH 'R CMD INSTALL --preclean --no-multiarch --library=CellScore.buildbin-libdir CellScore_1.9.0.tar.gz'
>>>>>>> 

* installing *source* package ‘CellScore’ ...
** using staged installation
** R
** inst
** byte-compile and prepare package for lazy loading
** help
*** installing help indices
** building package indices
** installing vignettes
** testing if installed package can be loaded from temporary location
** testing if installed package can be loaded from final location
** testing if installed package keeps a record of temporary installation path
* DONE (CellScore)