Back to Multiple platform build/check report for BioC 3.12
AB[C]DEFGHIJKLMNOPQRSTUVWXYZ

BUILD report for CellBench on merida1

This page was generated on 2020-08-06 12:27:41 -0400 (Thu, 06 Aug 2020).

TO THE DEVELOPERS/MAINTAINERS OF THE CellBench PACKAGE: Please make sure to use the following settings in order to reproduce any error or warning you see on this page.
Package 240/1882HostnameOS / ArchINSTALLBUILDCHECKBUILD BIN
CellBench 1.5.1
Shian Su
Snapshot Date: 2020-08-05 14:50:59 -0400 (Wed, 05 Aug 2020)
URL: https://git.bioconductor.org/packages/CellBench
Branch: master
Last Commit: 7282a9d
Last Changed Date: 2020-06-04 22:17:03 -0400 (Thu, 04 Jun 2020)
malbec1 Linux (Ubuntu 18.04.4 LTS) / x86_64  OK  OK  OK UNNEEDED, same version exists in internal repository
tokay1 Windows Server 2012 R2 Standard / x64  OK  OK  OK  OK UNNEEDED, same version exists in internal repository
merida1 macOS 10.14.6 Mojave / x86_64  OK [ OK ] OK  OK UNNEEDED, same version exists in internal repository

Summary

Package: CellBench
Version: 1.5.1
Command: /Library/Frameworks/R.framework/Versions/Current/Resources/bin/R CMD build --keep-empty-dirs --no-resave-data CellBench
StartedAt: 2020-08-05 21:19:05 -0400 (Wed, 05 Aug 2020)
EndedAt: 2020-08-05 21:20:40 -0400 (Wed, 05 Aug 2020)
EllapsedTime: 94.5 seconds
RetCode: 0
Status:  OK 
PackageFile: CellBench_1.5.1.tar.gz
PackageFileSize: 3.728 MiB

Command output

##############################################################################
##############################################################################
###
### Running command:
###
###   /Library/Frameworks/R.framework/Versions/Current/Resources/bin/R CMD build --keep-empty-dirs --no-resave-data CellBench
###
##############################################################################
##############################################################################


* checking for file ‘CellBench/DESCRIPTION’ ... OK
* preparing ‘CellBench’:
* checking DESCRIPTION meta-information ... OK
* installing the package to build vignettes
* creating vignettes ... OK
* checking for LF line-endings in source and make files and shell scripts
* checking for empty or unneeded directories
* building ‘CellBench_1.5.1.tar.gz’