Back to Multiple platform build/check report for BioC 3.12
[A]BCDEFGHIJKLMNOPQRSTUVWXYZ

BUILD report for ArrayExpress on malbec1

This page was generated on 2020-08-06 11:30:11 -0400 (Thu, 06 Aug 2020).

TO THE DEVELOPERS/MAINTAINERS OF THE ArrayExpress PACKAGE: Please make sure to use the following settings in order to reproduce any error or warning you see on this page.
Package 75/1882HostnameOS / ArchINSTALLBUILDCHECKBUILD BIN
ArrayExpress 1.49.0
Suhaib Mohammed
Snapshot Date: 2020-08-05 14:50:59 -0400 (Wed, 05 Aug 2020)
URL: https://git.bioconductor.org/packages/ArrayExpress
Branch: master
Last Commit: 99c772d
Last Changed Date: 2020-04-27 14:18:09 -0400 (Mon, 27 Apr 2020)
malbec1 Linux (Ubuntu 18.04.4 LTS) / x86_64  ERROR [ ERROR ] skipped 
tokay1 Windows Server 2012 R2 Standard / x64  ERROR  ERROR  skipped  skipped 
merida1 macOS 10.14.6 Mojave / x86_64  ERROR  ERROR  skipped  skipped 

Summary

Package: ArrayExpress
Version: 1.49.0
Command: /home/biocbuild/bbs-3.12-bioc/R/bin/R CMD build --keep-empty-dirs --no-resave-data ArrayExpress
StartedAt: 2020-08-05 17:40:14 -0400 (Wed, 05 Aug 2020)
EndedAt: 2020-08-05 17:40:22 -0400 (Wed, 05 Aug 2020)
EllapsedTime: 8.1 seconds
RetCode: 1
Status:  ERROR 
PackageFile: None
PackageFileSize: NA

Command output

##############################################################################
##############################################################################
###
### Running command:
###
###   /home/biocbuild/bbs-3.12-bioc/R/bin/R CMD build --keep-empty-dirs --no-resave-data ArrayExpress
###
##############################################################################
##############################################################################


* checking for file ‘ArrayExpress/DESCRIPTION’ ... OK
* preparing ‘ArrayExpress’:
* checking DESCRIPTION meta-information ... OK
* installing the package to build vignettes
      -----------------------------------
* installing *source* package ‘ArrayExpress’ ...
** using staged installation
** R
** inst
** byte-compile and prepare package for lazy loading
Error: object ‘clone’ is not exported by 'namespace:ff'
Execution halted
ERROR: lazy loading failed for package ‘ArrayExpress’
* removing ‘/tmp/RtmpnG2VWv/Rinst587f6891b1d/ArrayExpress’
      -----------------------------------
ERROR: package installation failed