Back to Multiple platform build/check report for BioC 3.12
AB[C]DEFGHIJKLMNOPQRSTUVWXYZ

INSTALL report for cellbaseR on malbec1

This page was generated on 2020-08-10 11:44:23 -0400 (Mon, 10 Aug 2020).

TO THE DEVELOPERS/MAINTAINERS OF THE cellbaseR PACKAGE: Please make sure to use the following settings in order to reproduce any error or warning you see on this page.
Package 239/1882HostnameOS / ArchINSTALLBUILDCHECKBUILD BIN
cellbaseR 1.13.0
Mohammed OE Abdallah
Snapshot Date: 2020-08-09 14:51:29 -0400 (Sun, 09 Aug 2020)
URL: https://git.bioconductor.org/packages/cellbaseR
Branch: master
Last Commit: e14a517
Last Changed Date: 2020-04-27 15:07:27 -0400 (Mon, 27 Apr 2020)
malbec1 Linux (Ubuntu 18.04.4 LTS) / x86_64 [ OK ] OK  OK UNNEEDED, same version exists in internal repository
nebbiolo1 Linux (Ubuntu 20.04.1 LTS) / x86_64  OK  OK  OK 
tokay1 Windows Server 2012 R2 Standard / x64  OK  OK  WARNINGS  OK UNNEEDED, same version exists in internal repository
merida1 macOS 10.14.6 Mojave / x86_64  OK  OK  OK  OK UNNEEDED, same version exists in internal repository

Summary

Package: cellbaseR
Version: 1.13.0
Command: /home/biocbuild/bbs-3.12-bioc/R/bin/R CMD INSTALL cellbaseR
StartedAt: 2020-08-09 16:48:22 -0400 (Sun, 09 Aug 2020)
EndedAt: 2020-08-09 16:48:39 -0400 (Sun, 09 Aug 2020)
EllapsedTime: 17.2 seconds
RetCode: 0
Status:  OK 

Command output

##############################################################################
##############################################################################
###
### Running command:
###
###   /home/biocbuild/bbs-3.12-bioc/R/bin/R CMD INSTALL cellbaseR
###
##############################################################################
##############################################################################


* installing to library ‘/home/biocbuild/bbs-3.12-bioc/R/library’
* installing *source* package ‘cellbaseR’ ...
** using staged installation
** R
** inst
** byte-compile and prepare package for lazy loading
** help
*** installing help indices
** building package indices
** installing vignettes
** testing if installed package can be loaded from temporary location
** testing if installed package can be loaded from final location
** testing if installed package keeps a record of temporary installation path
* DONE (cellbaseR)