Back to Multiple platform build/check report for BioC 3.12
A[B]CDEFGHIJKLMNOPQRSTUVWXYZ

BUILD BIN report for BioCor on merida1

This page was generated on 2020-08-07 12:36:11 -0400 (Fri, 07 Aug 2020).

TO THE DEVELOPERS/MAINTAINERS OF THE BioCor PACKAGE: Please make sure to use the following settings in order to reproduce any error or warning you see on this page.
Package 156/1882HostnameOS / ArchINSTALLBUILDCHECKBUILD BIN
BioCor 1.13.0
Lluís Revilla Sancho
Snapshot Date: 2020-08-06 14:50:46 -0400 (Thu, 06 Aug 2020)
URL: https://git.bioconductor.org/packages/BioCor
Branch: master
Last Commit: 992299c
Last Changed Date: 2020-07-09 06:05:18 -0400 (Thu, 09 Jul 2020)
malbec1 Linux (Ubuntu 18.04.4 LTS) / x86_64  OK  OK  OK UNNEEDED, same version exists in internal repository
tokay1 Windows Server 2012 R2 Standard / x64  OK  OK  OK  OK UNNEEDED, same version exists in internal repository
merida1 macOS 10.14.6 Mojave / x86_64  OK  OK  OK [ OK ]UNNEEDED, same version exists in internal repository

Summary

Package: BioCor
Version: 1.13.0
Command: rm -rf BioCor.buildbin-libdir && mkdir BioCor.buildbin-libdir && /Users/biocbuild/BBS/utils/build-universal.sh BioCor_1.13.0.tar.gz /Library/Frameworks/R.framework/Versions/Current/Resources/bin/R BioCor.buildbin-libdir
StartedAt: 2020-08-07 07:18:10 -0400 (Fri, 07 Aug 2020)
EndedAt: 2020-08-07 07:19:03 -0400 (Fri, 07 Aug 2020)
EllapsedTime: 52.7 seconds
RetCode: 0
Status:  OK 
PackageFile: BioCor_1.13.0.tgz
PackageFileSize: 887.7 KiB

Command output

##############################################################################
##############################################################################
###
### Running command:
###
###   rm -rf BioCor.buildbin-libdir && mkdir BioCor.buildbin-libdir && /Users/biocbuild/BBS/utils/build-universal.sh BioCor_1.13.0.tar.gz /Library/Frameworks/R.framework/Versions/Current/Resources/bin/R BioCor.buildbin-libdir
###
##############################################################################
##############################################################################


>>>>>>> 
>>>>>>> INSTALLATION WITH 'R CMD INSTALL --preclean --no-multiarch --library=BioCor.buildbin-libdir BioCor_1.13.0.tar.gz'
>>>>>>> 

* installing *source* package ‘BioCor’ ...
** using staged installation
** R
** inst
** byte-compile and prepare package for lazy loading
Creating a generic function from function ‘clusterGeneSim’ in package ‘BioCor’
Creating a generic function from function ‘clusterSim’ in package ‘BioCor’
Creating a generic function from function ‘geneSim’ in package ‘BioCor’
Creating a generic function from function ‘mclusterGeneSim’ in package ‘BioCor’
Creating a generic function from function ‘mclusterSim’ in package ‘BioCor’
Creating a generic function from function ‘mgeneSim’ in package ‘BioCor’
Creating a generic function from function ‘mpathSim’ in package ‘BioCor’
Creating a generic function from function ‘pathSim’ in package ‘BioCor’
** help
*** installing help indices
*** copying figures
** building package indices
** installing vignettes
** testing if installed package can be loaded from temporary location
** testing if installed package can be loaded from final location
** testing if installed package keeps a record of temporary installation path
* DONE (BioCor)