Back to Multiple platform build/check report for BioC 3.12
AB[C]DEFGHIJKLMNOPQRSTUVWXYZ

BUILD BIN report for CellMixS on tokay1

This page was generated on 2020-10-29 12:25:03 -0400 (Thu, 29 Oct 2020).

TO THE DEVELOPERS/MAINTAINERS OF THE CellMixS PACKAGE: Please make sure to use the following settings in order to reproduce any error or warning you see on this page.
Package 255/1974HostnameOS / ArchINSTALLBUILDCHECKBUILD BIN
CellMixS 1.6.0
Almut Lütge
Snapshot Date: 2020-10-28 14:42:40 -0400 (Wed, 28 Oct 2020)
URL: https://git.bioconductor.org/packages/CellMixS
Branch: RELEASE_3_12
Last Commit: 7e096e8
Last Changed Date: 2020-10-27 11:44:36 -0400 (Tue, 27 Oct 2020)
malbec1 Linux (Ubuntu 18.04.4 LTS) / x86_64  OK  OK  OK UNNEEDED, same version exists in internal repository
nebbiolo1 Linux (Ubuntu 20.04.1 LTS) / x86_64  OK  OK  OK 
tokay1 Windows Server 2012 R2 Standard / x64  OK  OK  OK [ OK ]UNNEEDED, same version exists in internal repository
merida1 macOS 10.14.6 Mojave / x86_64  OK  OK  OK  OK UNNEEDED, same version exists in internal repository

Summary

Package: CellMixS
Version: 1.6.0
Command: rm -rf CellMixS.buildbin-libdir && mkdir CellMixS.buildbin-libdir && C:\Users\biocbuild\bbs-3.12-bioc\R\bin\R.exe CMD INSTALL --merge-multiarch --build --library=CellMixS.buildbin-libdir CellMixS_1.6.0.tar.gz
StartedAt: 2020-10-29 08:28:33 -0400 (Thu, 29 Oct 2020)
EndedAt: 2020-10-29 08:29:34 -0400 (Thu, 29 Oct 2020)
EllapsedTime: 60.5 seconds
RetCode: 0
Status:  OK  
PackageFile: CellMixS_1.6.0.zip
PackageFileSize: 2.2 MiB

Command output

##############################################################################
##############################################################################
###
### Running command:
###
###   rm -rf CellMixS.buildbin-libdir && mkdir CellMixS.buildbin-libdir && C:\Users\biocbuild\bbs-3.12-bioc\R\bin\R.exe CMD INSTALL --merge-multiarch --build --library=CellMixS.buildbin-libdir CellMixS_1.6.0.tar.gz
###
##############################################################################
##############################################################################



install for i386

* installing *source* package 'CellMixS' ...
** using staged installation
** R
** inst
** byte-compile and prepare package for lazy loading
** help
*** installing help indices
  converting help for package 'CellMixS'
    finding HTML links ... done
    CellMixS-package                        html  
    cms                                     html  
    finding level-2 HTML links ... done

    dot-cmsCell                             html  
    dot-defineSubspace                      html  
    dot-filterKnn                           html  
    dot-filterLocMin                        html  
    dot-ldfKnn                              html  
    dot-smoothCms                           html  
    entropy                                 html  
    evalIntegration                         html  
    isi                                     html  
    ldfDiff                                 html  
    ldfSce                                  html  
    locStructure                            html  
    mixMetric                               html  
    visCluster                              html  
    visGroup                                html  
    visHist                                 html  
    visIntegration                          html  
    visMetric                               html  
    visOverview                             html  
** building package indices
** installing vignettes
** testing if installed package can be loaded from temporary location
** testing if installed package can be loaded from final location
** testing if installed package keeps a record of temporary installation path

install for x64

* installing *source* package 'CellMixS' ...
** testing if installed package can be loaded
* MD5 sums
packaged installation of 'CellMixS' as CellMixS_1.6.0.zip
* DONE (CellMixS)