Back to Multiple platform build/check report for BioC 3.12
[A]BCDEFGHIJKLMNOPQRSTUVWXYZ

BUILD BIN report for ASSIGN on tokay1

This page was generated on 2020-08-09 12:03:53 -0400 (Sun, 09 Aug 2020).

TO THE DEVELOPERS/MAINTAINERS OF THE ASSIGN PACKAGE: Please make sure to use the following settings in order to reproduce any error or warning you see on this page.
Package 92/1882HostnameOS / ArchINSTALLBUILDCHECKBUILD BIN
ASSIGN 1.25.0
Ying Shen , W. Evan Johnson
Snapshot Date: 2020-08-08 14:51:01 -0400 (Sat, 08 Aug 2020)
URL: https://git.bioconductor.org/packages/ASSIGN
Branch: master
Last Commit: e608089
Last Changed Date: 2020-04-27 14:39:28 -0400 (Mon, 27 Apr 2020)
malbec1 Linux (Ubuntu 18.04.4 LTS) / x86_64  OK  OK  OK UNNEEDED, same version exists in internal repository
nebbiolo1 Linux (Ubuntu 20.04.1 LTS) / x86_64  OK  OK  OK 
tokay1 Windows Server 2012 R2 Standard / x64  OK  OK  OK [ OK ]UNNEEDED, same version exists in internal repository
merida1 macOS 10.14.6 Mojave / x86_64  OK  OK  OK  OK UNNEEDED, same version exists in internal repository

Summary

Package: ASSIGN
Version: 1.25.0
Command: rm -rf ASSIGN.buildbin-libdir && mkdir ASSIGN.buildbin-libdir && C:\Users\biocbuild\bbs-3.12-bioc\R\bin\R.exe CMD INSTALL --merge-multiarch --build --library=ASSIGN.buildbin-libdir ASSIGN_1.25.0.tar.gz
StartedAt: 2020-08-09 07:20:35 -0400 (Sun, 09 Aug 2020)
EndedAt: 2020-08-09 07:21:15 -0400 (Sun, 09 Aug 2020)
EllapsedTime: 39.2 seconds
RetCode: 0
Status:  OK  
PackageFile: ASSIGN_1.25.0.zip
PackageFileSize: 1.691 MiB

Command output

##############################################################################
##############################################################################
###
### Running command:
###
###   rm -rf ASSIGN.buildbin-libdir && mkdir ASSIGN.buildbin-libdir && C:\Users\biocbuild\bbs-3.12-bioc\R\bin\R.exe CMD INSTALL --merge-multiarch --build --library=ASSIGN.buildbin-libdir ASSIGN_1.25.0.tar.gz
###
##############################################################################
##############################################################################



install for i386

* installing *source* package 'ASSIGN' ...
** using staged installation
** R
** data
*** moving datasets to lazyload DB
** inst
** byte-compile and prepare package for lazy loading
** help
*** installing help indices
  converting help for package 'ASSIGN'
    finding HTML links ... done
    ComBat.step2                            html  
    assign.convergence                      html  
    assign.cv.output                        html  
    assign.mcmc                             html  
    assign.output                           html  
    assign.preprocess                       html  
    assign.summary                          html  
    assign.wrapper                          html  
    excludegenes                            html  
    gather_assign_results                   html  
    geneList1                               html  
    gfrn_geneList                           html  
    merge_drop                              html  
    optimizeGFRN                            html  
    pcaplot                                 html  
    runassignGFRN                           html  
    testData1                               html  
    trainingData1                           html  
** building package indices
** installing vignettes
** testing if installed package can be loaded from temporary location
** testing if installed package can be loaded from final location
** testing if installed package keeps a record of temporary installation path

install for x64

* installing *source* package 'ASSIGN' ...
** testing if installed package can be loaded
* MD5 sums
packaged installation of 'ASSIGN' as ASSIGN_1.25.0.zip
* DONE (ASSIGN)