Back to Multiple platform build/check report for BioC 3.12
A[B]CDEFGHIJKLMNOPQRSTUVWXYZ

BUILD report for biobtreeR on tokay1

This page was generated on 2020-08-13 11:46:28 -0400 (Thu, 13 Aug 2020).

TO THE DEVELOPERS/MAINTAINERS OF THE biobtreeR PACKAGE: Please make sure to use the following settings in order to reproduce any error or warning you see on this page.
Package 146/1885HostnameOS / ArchINSTALLBUILDCHECKBUILD BIN
biobtreeR 1.1.0
Tamer Gur
Snapshot Date: 2020-08-12 14:52:00 -0400 (Wed, 12 Aug 2020)
URL: https://git.bioconductor.org/packages/biobtreeR
Branch: master
Last Commit: aa78b02
Last Changed Date: 2020-05-19 07:05:00 -0400 (Tue, 19 May 2020)
malbec1 Linux (Ubuntu 18.04.4 LTS) / x86_64  OK  OK  OK UNNEEDED, same version exists in internal repository
nebbiolo1 Linux (Ubuntu 20.04.1 LTS) / x86_64  OK  OK  OK 
tokay1 Windows Server 2012 R2 Standard / x64  OK [ OK ] OK  OK UNNEEDED, same version exists in internal repository
merida1 macOS 10.14.6 Mojave / x86_64  OK  OK  OK  OK UNNEEDED, same version exists in internal repository

Summary

Package: biobtreeR
Version: 1.1.0
Command: chmod a+r biobtreeR -R && C:\Users\biocbuild\bbs-3.12-bioc\R\bin\R.exe CMD build --keep-empty-dirs --no-resave-data biobtreeR
StartedAt: 2020-08-12 23:10:21 -0400 (Wed, 12 Aug 2020)
EndedAt: 2020-08-12 23:11:40 -0400 (Wed, 12 Aug 2020)
EllapsedTime: 78.3 seconds
RetCode: 0
Status:  OK  
PackageFile: biobtreeR_1.1.0.tar.gz
PackageFileSize: 927.5 KiB

Command output

##############################################################################
##############################################################################
###
### Running command:
###
###   chmod a+r biobtreeR -R && C:\Users\biocbuild\bbs-3.12-bioc\R\bin\R.exe CMD build --keep-empty-dirs --no-resave-data biobtreeR
###
##############################################################################
##############################################################################


* checking for file 'biobtreeR/DESCRIPTION' ... OK
* preparing 'biobtreeR':
* checking DESCRIPTION meta-information ... OK
* installing the package to build vignettes
* creating vignettes ... OK
* checking for LF line-endings in source and make files and shell scripts
* checking for empty or unneeded directories
* building 'biobtreeR_1.1.0.tar.gz'