Back to Multiple platform build/check report for BioC 3.12
A[B]CDEFGHIJKLMNOPQRSTUVWXYZ

BUILD report for BBCAnalyzer on tokay1

This page was generated on 2021-01-17 11:52:44 -0500 (Sun, 17 Jan 2021).

TO THE DEVELOPERS/MAINTAINERS OF THE BBCAnalyzer PACKAGE: Please make sure to use the following settings in order to reproduce any error or warning you see on this page.
Package 129/1974HostnameOS / ArchINSTALLBUILDCHECKBUILD BIN
BBCAnalyzer 1.20.0
Sarah Sandmann
Snapshot Date: 2021-01-16 14:41:12 -0500 (Sat, 16 Jan 2021)
URL: https://git.bioconductor.org/packages/BBCAnalyzer
Branch: RELEASE_3_12
Last Commit: 1ab650d
Last Changed Date: 2020-10-27 11:07:21 -0500 (Tue, 27 Oct 2020)
malbec1 Linux (Ubuntu 18.04.5 LTS) / x86_64  OK  OK  OK UNNEEDED, same version exists in internal repository
nebbiolo1 Linux (Ubuntu 20.04.1 LTS) / x86_64  OK  OK  OK 
tokay1 Windows Server 2012 R2 Standard / x64  OK [ OK ] WARNINGS  OK UNNEEDED, same version exists in internal repository
merida1 macOS 10.14.6 Mojave / x86_64  OK  OK  OK  OK UNNEEDED, same version exists in internal repository

Summary

Package: BBCAnalyzer
Version: 1.20.0
Command: chmod a+r BBCAnalyzer -R && C:\Users\biocbuild\bbs-3.12-bioc\R\bin\R.exe CMD build --keep-empty-dirs --no-resave-data BBCAnalyzer
StartedAt: 2021-01-16 19:38:48 -0500 (Sat, 16 Jan 2021)
EndedAt: 2021-01-16 19:49:52 -0500 (Sat, 16 Jan 2021)
EllapsedTime: 664.1 seconds
RetCode: 0
Status:  OK  
PackageFile: BBCAnalyzer_1.20.0.tar.gz
PackageFileSize: 2.125 MiB

Command output

##############################################################################
##############################################################################
###
### Running command:
###
###   chmod a+r BBCAnalyzer -R && C:\Users\biocbuild\bbs-3.12-bioc\R\bin\R.exe CMD build --keep-empty-dirs --no-resave-data BBCAnalyzer
###
##############################################################################
##############################################################################


* checking for file 'BBCAnalyzer/DESCRIPTION' ... OK
* preparing 'BBCAnalyzer':
* checking DESCRIPTION meta-information ... OK
* installing the package to process help pages
* saving partial Rd database
* creating vignettes ... OK
* checking for LF line-endings in source and make files and shell scripts
* checking for empty or unneeded directories
* building 'BBCAnalyzer_1.20.0.tar.gz'