Back to Multiple platform build/check report for BioC 3.12 |
|
This page was generated on 2021-05-06 12:31:54 -0400 (Thu, 06 May 2021).
To the developers/maintainers of the IVAS package: Please make sure to use the following settings in order to reproduce any error or warning you see on this page. |
Package 929/1974 | Hostname | OS / Arch | INSTALL | BUILD | CHECK | BUILD BIN | ||||||||
IVAS 2.10.0 (landing page) Seonggyun Han
| malbec1 | Linux (Ubuntu 18.04.5 LTS) / x86_64 | OK | OK | WARNINGS | |||||||||
tokay1 | Windows Server 2012 R2 Standard / x64 | OK | OK | WARNINGS | OK | |||||||||
merida1 | macOS 10.14.6 Mojave / x86_64 | OK | OK | WARNINGS | OK | |||||||||
Package: IVAS |
Version: 2.10.0 |
Command: rm -rf IVAS.buildbin-libdir && mkdir IVAS.buildbin-libdir && C:\Users\biocbuild\bbs-3.12-bioc\R\bin\R.exe CMD INSTALL --merge-multiarch --build --library=IVAS.buildbin-libdir IVAS_2.10.0.tar.gz |
StartedAt: 2021-05-06 09:22:12 -0400 (Thu, 06 May 2021) |
EndedAt: 2021-05-06 09:23:39 -0400 (Thu, 06 May 2021) |
EllapsedTime: 87.1 seconds |
RetCode: 0 |
Status: OK |
PackageFile: IVAS_2.10.0.zip |
PackageFileSize: 672.3 KiB |
############################################################################## ############################################################################## ### ### Running command: ### ### rm -rf IVAS.buildbin-libdir && mkdir IVAS.buildbin-libdir && C:\Users\biocbuild\bbs-3.12-bioc\R\bin\R.exe CMD INSTALL --merge-multiarch --build --library=IVAS.buildbin-libdir IVAS_2.10.0.tar.gz ### ############################################################################## ############################################################################## install for i386 * installing *source* package 'IVAS' ... ** using staged installation ** R ** data ** inst ** byte-compile and prepare package for lazy loading Note: next used in wrong context: no loop is visible ** help *** installing help indices converting help for package 'IVAS' finding HTML links ... done ASdb-class html CalSigSNP html IVAS-deprecated html IVAS-package html MsqtlFinder html RatioFromFPKM html Rd warning: C:/Users/biocbuild/bbs-3.12-bioc/tmpdir/RtmpOCRe6F/R.INSTALL313c140340c3/IVAS/man/RatioFromFPKM.Rd:46: file link 'isActiveSeq' in package 'GenomicFeatures' does not exist and so has been treated as a topic Splicingfinder html Rd warning: C:/Users/biocbuild/bbs-3.12-bioc/tmpdir/RtmpOCRe6F/R.INSTALL313c140340c3/IVAS/man/Splicingfinder.Rd:41: file link 'isActiveSeq' in package 'GenomicFeatures' does not exist and so has been treated as a topic calSignificant html chrseparate html finding level-2 HTML links ... done Rd warning: C:/Users/biocbuild/bbs-3.12-bioc/tmpdir/RtmpOCRe6F/R.INSTALL313c140340c3/IVAS/man/chrseparate.Rd:31: file link 'isActiveSeq' in package 'GenomicFeatures' does not exist and so has been treated as a topic findAlternative html Rd warning: C:/Users/biocbuild/bbs-3.12-bioc/tmpdir/RtmpOCRe6F/R.INSTALL313c140340c3/IVAS/man/findAlternative.Rd:44: file link 'GRanges' in package 'GenomicRanges' does not exist and so has been treated as a topic Rd warning: C:/Users/biocbuild/bbs-3.12-bioc/tmpdir/RtmpOCRe6F/R.INSTALL313c140340c3/IVAS/man/findAlternative.Rd:45: file link 'IRanges' in package 'IRanges' does not exist and so has been treated as a topic findOversnp html Rd warning: C:/Users/biocbuild/bbs-3.12-bioc/tmpdir/RtmpOCRe6F/R.INSTALL313c140340c3/IVAS/man/findOversnp.Rd:29: file link 'findOverlaps' in package 'IRanges' does not exist and so has been treated as a topic sQTLsFinder html sampleexp html samplesnp html samplesnplocus html saveBplot html sqtlfinder html ** building package indices ** installing vignettes ** testing if installed package can be loaded from temporary location ** testing if installed package can be loaded from final location ** testing if installed package keeps a record of temporary installation path install for x64 * installing *source* package 'IVAS' ... ** testing if installed package can be loaded * MD5 sums packaged installation of 'IVAS' as IVAS_2.10.0.zip * DONE (IVAS)