Back to Multiple platform build/check report for BioC 3.12
AB[C]DEFGHIJKLMNOPQRSTUVWXYZ

BUILD report for CellBench on tokay1

This page was generated on 2020-08-13 11:45:02 -0400 (Thu, 13 Aug 2020).

TO THE DEVELOPERS/MAINTAINERS OF THE CellBench PACKAGE: Please make sure to use the following settings in order to reproduce any error or warning you see on this page.
Package 240/1885HostnameOS / ArchINSTALLBUILDCHECKBUILD BIN
CellBench 1.5.1
Shian Su
Snapshot Date: 2020-08-12 14:52:00 -0400 (Wed, 12 Aug 2020)
URL: https://git.bioconductor.org/packages/CellBench
Branch: master
Last Commit: 7282a9d
Last Changed Date: 2020-06-04 22:17:03 -0400 (Thu, 04 Jun 2020)
malbec1 Linux (Ubuntu 18.04.4 LTS) / x86_64  OK  OK  OK UNNEEDED, same version exists in internal repository
nebbiolo1 Linux (Ubuntu 20.04.1 LTS) / x86_64  OK  OK  OK 
tokay1 Windows Server 2012 R2 Standard / x64  OK [ OK ] OK  OK UNNEEDED, same version exists in internal repository
merida1 macOS 10.14.6 Mojave / x86_64  OK  OK  OK  OK UNNEEDED, same version exists in internal repository

Summary

Package: CellBench
Version: 1.5.1
Command: chmod a+r CellBench -R && C:\Users\biocbuild\bbs-3.12-bioc\R\bin\R.exe CMD build --keep-empty-dirs --no-resave-data CellBench
StartedAt: 2020-08-12 22:45:18 -0400 (Wed, 12 Aug 2020)
EndedAt: 2020-08-12 22:47:10 -0400 (Wed, 12 Aug 2020)
EllapsedTime: 112.4 seconds
RetCode: 0
Status:  OK  
PackageFile: CellBench_1.5.1.tar.gz
PackageFileSize: 3.707 MiB

Command output

##############################################################################
##############################################################################
###
### Running command:
###
###   chmod a+r CellBench -R && C:\Users\biocbuild\bbs-3.12-bioc\R\bin\R.exe CMD build --keep-empty-dirs --no-resave-data CellBench
###
##############################################################################
##############################################################################


* checking for file 'CellBench/DESCRIPTION' ... OK
* preparing 'CellBench':
* checking DESCRIPTION meta-information ... OK
* installing the package to build vignettes
* creating vignettes ... OK
* checking for LF line-endings in source and make files and shell scripts
* checking for empty or unneeded directories
* building 'CellBench_1.5.1.tar.gz'