Back to Multiple platform build/check report for BioC 3.12
A[B]CDEFGHIJKLMNOPQRSTUVWXYZ

BUILD report for BiocFileCache on merida1

This page was generated on 2020-08-07 12:36:11 -0400 (Fri, 07 Aug 2020).

TO THE DEVELOPERS/MAINTAINERS OF THE BiocFileCache PACKAGE: Please make sure to use the following settings in order to reproduce any error or warning you see on this page.
Package 151/1882HostnameOS / ArchINSTALLBUILDCHECKBUILD BIN
BiocFileCache 1.13.1
Lori Shepherd
Snapshot Date: 2020-08-06 14:50:46 -0400 (Thu, 06 Aug 2020)
URL: https://git.bioconductor.org/packages/BiocFileCache
Branch: master
Last Commit: c130b26
Last Changed Date: 2020-08-04 14:41:56 -0400 (Tue, 04 Aug 2020)
malbec1 Linux (Ubuntu 18.04.4 LTS) / x86_64  OK  OK  OK UNNEEDED, same version exists in internal repository
tokay1 Windows Server 2012 R2 Standard / x64  OK  OK  OK  OK UNNEEDED, same version exists in internal repository
merida1 macOS 10.14.6 Mojave / x86_64  OK [ OK ] OK  OK UNNEEDED, same version exists in internal repository

Summary

Package: BiocFileCache
Version: 1.13.1
Command: /Library/Frameworks/R.framework/Versions/Current/Resources/bin/R CMD build --keep-empty-dirs --no-resave-data BiocFileCache
StartedAt: 2020-08-06 20:29:21 -0400 (Thu, 06 Aug 2020)
EndedAt: 2020-08-06 20:30:29 -0400 (Thu, 06 Aug 2020)
EllapsedTime: 67.8 seconds
RetCode: 0
Status:  OK 
PackageFile: BiocFileCache_1.13.1.tar.gz
PackageFileSize: 282 KiB

Command output

##############################################################################
##############################################################################
###
### Running command:
###
###   /Library/Frameworks/R.framework/Versions/Current/Resources/bin/R CMD build --keep-empty-dirs --no-resave-data BiocFileCache
###
##############################################################################
##############################################################################


* checking for file ‘BiocFileCache/DESCRIPTION’ ... OK
* preparing ‘BiocFileCache’:
* checking DESCRIPTION meta-information ... OK
* installing the package to build vignettes
* creating vignettes ... OK
* checking for LF line-endings in source and make files and shell scripts
* checking for empty or unneeded directories
* building ‘BiocFileCache_1.13.1.tar.gz’