Back to Multiple platform build/check report for BioC 3.12
AB[C]DEFGHIJKLMNOPQRSTUVWXYZ

BUILD BIN report for cellHTS2 on tokay1

This page was generated on 2020-08-12 11:37:58 -0400 (Wed, 12 Aug 2020).

TO THE DEVELOPERS/MAINTAINERS OF THE cellHTS2 PACKAGE: Please make sure to use the following settings in order to reproduce any error or warning you see on this page.
Package 241/1885HostnameOS / ArchINSTALLBUILDCHECKBUILD BIN
cellHTS2 2.53.0
Joseph Barry
Snapshot Date: 2020-08-11 14:50:16 -0400 (Tue, 11 Aug 2020)
URL: https://git.bioconductor.org/packages/cellHTS2
Branch: master
Last Commit: 0f9a18a
Last Changed Date: 2020-04-27 14:15:21 -0400 (Mon, 27 Apr 2020)
malbec1 Linux (Ubuntu 18.04.4 LTS) / x86_64  OK  OK  OK UNNEEDED, same version exists in internal repository
nebbiolo1 Linux (Ubuntu 20.04.1 LTS) / x86_64  OK  OK  OK 
tokay1 Windows Server 2012 R2 Standard / x64  OK  OK  OK [ OK ]UNNEEDED, same version exists in internal repository
merida1 macOS 10.14.6 Mojave / x86_64  OK  OK  OK  OK UNNEEDED, same version exists in internal repository

Summary

Package: cellHTS2
Version: 2.53.0
Command: rm -rf cellHTS2.buildbin-libdir && mkdir cellHTS2.buildbin-libdir && C:\Users\biocbuild\bbs-3.12-bioc\R\bin\R.exe CMD INSTALL --merge-multiarch --build --library=cellHTS2.buildbin-libdir cellHTS2_2.53.0.tar.gz
StartedAt: 2020-08-12 07:15:35 -0400 (Wed, 12 Aug 2020)
EndedAt: 2020-08-12 07:16:39 -0400 (Wed, 12 Aug 2020)
EllapsedTime: 63.8 seconds
RetCode: 0
Status:  OK  
PackageFile: cellHTS2_2.53.0.zip
PackageFileSize: 4.056 MiB

Command output

##############################################################################
##############################################################################
###
### Running command:
###
###   rm -rf cellHTS2.buildbin-libdir && mkdir cellHTS2.buildbin-libdir && C:\Users\biocbuild\bbs-3.12-bioc\R\bin\R.exe CMD INSTALL --merge-multiarch --build --library=cellHTS2.buildbin-libdir cellHTS2_2.53.0.tar.gz
###
##############################################################################
##############################################################################



install for i386

* installing *source* package 'cellHTS2' ...
** using staged installation
** R
** data
** inst
** byte-compile and prepare package for lazy loading
** help
*** installing help indices
  converting help for package 'cellHTS2'
    finding HTML links ... done
    Bscore                                  html  
    Data                                    html  
    ROC-class                               html  
    ROC                                     html  
    annotate                                html  
    batch                                   html  
    bdgpbiomart                             html  
    buildCellHTS2                           html  
    cellHTS-class                           html  
    cellHTS2                                html  
    configurationAsScreenPlot               html  
    configure                               html  
    convertOldCellHTS                       html  
    convertWellCoordinates                  html  
    data-KcViab                             html  
    data-KcViabSmall                        html  
    data-dualCh                             html  
    data-oldKcViabSmall                     html  
    getDynamicRange                         html  
    getEnVisionRawData                      html  
    getMeasureRepAgreement                  html  
    getTopTable                             html  
    getZfactor                              html  
    gseaModule                              html  
    imageScreen                             html  
    intensityFiles                          html  
    normalizePlates                         html  
    oneRowPerId                             html  
    plate                                   html  
    plateEffects                            html  
    plotSpatialEffects                      html  
    readHTAnalystData                       html  
    readPlateList                           html  
    rsa                                     html  
    scoreReplicates                         html  
    scores2calls                            html  
    setSettings                             html  
    spatialNormalization                    html  
    state                                   html  
    summarizeChannels                       html  
    summarizeReplicates                     html  
    templateDescriptionFile                 html  
    updateCellHTS                           html  
    wellAnno                                html  
    write.tabdel                            html  
    writeReport                             html  
    writeTab                                html  
** building package indices
** installing vignettes
** testing if installed package can be loaded from temporary location
** testing if installed package can be loaded from final location
** testing if installed package keeps a record of temporary installation path

install for x64

* installing *source* package 'cellHTS2' ...
** testing if installed package can be loaded
* MD5 sums
packaged installation of 'cellHTS2' as cellHTS2_2.53.0.zip
* DONE (cellHTS2)