Back to Multiple platform build/check report for BioC 3.12
A[B]CDEFGHIJKLMNOPQRSTUVWXYZ

CHECK report for BaseSpaceR on tokay1

This page was generated on 2020-08-07 12:02:01 -0400 (Fri, 07 Aug 2020).

TO THE DEVELOPERS/MAINTAINERS OF THE BaseSpaceR PACKAGE: Please make sure to use the following settings in order to reproduce any error or warning you see on this page.
Package 110/1882HostnameOS / ArchINSTALLBUILDCHECKBUILD BIN
BaseSpaceR 1.33.0
Jared O'Connell
Snapshot Date: 2020-08-06 14:50:46 -0400 (Thu, 06 Aug 2020)
URL: https://git.bioconductor.org/packages/BaseSpaceR
Branch: master
Last Commit: f6aa2f5
Last Changed Date: 2020-04-27 14:33:50 -0400 (Mon, 27 Apr 2020)
malbec1 Linux (Ubuntu 18.04.4 LTS) / x86_64  OK  OK  OK UNNEEDED, same version exists in internal repository
tokay1 Windows Server 2012 R2 Standard / x64  OK  OK [ OK ] OK UNNEEDED, same version exists in internal repository
merida1 macOS 10.14.6 Mojave / x86_64  OK  OK  OK  OK UNNEEDED, same version exists in internal repository

Summary

Package: BaseSpaceR
Version: 1.33.0
Command: C:\Users\biocbuild\bbs-3.12-bioc\R\bin\R.exe CMD check --force-multiarch --install=check:BaseSpaceR.install-out.txt --library=C:\Users\biocbuild\bbs-3.12-bioc\R\library --no-vignettes --timings BaseSpaceR_1.33.0.tar.gz
StartedAt: 2020-08-07 01:00:44 -0400 (Fri, 07 Aug 2020)
EndedAt: 2020-08-07 01:01:49 -0400 (Fri, 07 Aug 2020)
EllapsedTime: 65.8 seconds
RetCode: 0
Status:  OK  
CheckDir: BaseSpaceR.Rcheck
Warnings: 0

Command output

##############################################################################
##############################################################################
###
### Running command:
###
###   C:\Users\biocbuild\bbs-3.12-bioc\R\bin\R.exe CMD check --force-multiarch --install=check:BaseSpaceR.install-out.txt --library=C:\Users\biocbuild\bbs-3.12-bioc\R\library --no-vignettes --timings BaseSpaceR_1.33.0.tar.gz
###
##############################################################################
##############################################################################


* using log directory 'C:/Users/biocbuild/bbs-3.12-bioc/meat/BaseSpaceR.Rcheck'
* using R version 4.0.2 (2020-06-22)
* using platform: x86_64-w64-mingw32 (64-bit)
* using session charset: ISO8859-1
* using option '--no-vignettes'
* checking for file 'BaseSpaceR/DESCRIPTION' ... OK
* this is package 'BaseSpaceR' version '1.33.0'
* checking package namespace information ... OK
* checking package dependencies ... OK
* checking if this is a source package ... OK
* checking if there is a namespace ... OK
* checking for hidden files and directories ... OK
* checking for portable file names ... OK
* checking whether package 'BaseSpaceR' can be installed ... OK
* checking installed package size ... OK
* checking package directory ... OK
* checking 'build' directory ... OK
* checking DESCRIPTION meta-information ... OK
* checking top-level files ... OK
* checking for left-over files ... OK
* checking index information ... OK
* checking package subdirectories ... OK
* checking R files for non-ASCII characters ... OK
* checking R files for syntax errors ... OK
* loading checks for arch 'i386'
** checking whether the package can be loaded ... OK
** checking whether the package can be loaded with stated dependencies ... OK
** checking whether the package can be unloaded cleanly ... OK
** checking whether the namespace can be loaded with stated dependencies ... OK
** checking whether the namespace can be unloaded cleanly ... OK
* loading checks for arch 'x64'
** checking whether the package can be loaded ... OK
** checking whether the package can be loaded with stated dependencies ... OK
** checking whether the package can be unloaded cleanly ... OK
** checking whether the namespace can be loaded with stated dependencies ... OK
** checking whether the namespace can be unloaded cleanly ... OK
* checking dependencies in R code ... NOTE
'library' or 'require' call to 'Rsamtools' in package code.
  Please use :: or requireNamespace() instead.
  See section 'Suggested packages' in the 'Writing R Extensions' manual.
* checking S3 generic/method consistency ... OK
* checking replacement functions ... OK
* checking foreign function calls ... OK
* checking R code for possible problems ... NOTE
asBamFile: no visible global function definition for 'BamFile'
GET,ServiceURI: no visible global function definition for
  'basicHeaderGatherer'
GET,ServiceURI: no visible global function definition for
  'basicTextGatherer'
GET,ServiceURI: no visible global function definition for 'getForm'
GET,ServiceURI: no visible global function definition for 'curlOptions'
POST,ServiceURI: no visible global function definition for
  'basicHeaderGatherer'
POST,ServiceURI: no visible global function definition for
  'basicTextGatherer'
POST,ServiceURI: no visible global function definition for
  'curlPerform'
POSTForm,ServiceURI: no visible global function definition for
  'basicHeaderGatherer'
POSTForm,ServiceURI: no visible global function definition for
  'basicTextGatherer'
POSTForm,ServiceURI: no visible global function definition for
  'postForm'
POSTForm,ServiceURI: no visible global function definition for
  'curlOptions'
getBAMs,AppResults: no visible binding for global variable
  'BamFileList'
getFiles,AppAuth : .toDisk: no visible global function definition for
  'CFILE'
getFiles,AppAuth : .toDisk: no visible global function definition for
  'curlPerform'
getFiles,AppAuth : .toMem: no visible global function definition for
  'getURLContent'
getFiles,AppAuth : .toMem: no visible binding for global variable
  'dsize'
Undefined global functions or variables:
  BamFile BamFileList CFILE basicHeaderGatherer basicTextGatherer
  curlOptions curlPerform dsize getForm getURLContent postForm
* checking Rd files ... OK
* checking Rd metadata ... OK
* checking Rd cross-references ... OK
* checking for missing documentation entries ... OK
* checking for code/documentation mismatches ... OK
* checking Rd \usage sections ... OK
* checking Rd contents ... OK
* checking for unstated dependencies in examples ... OK
* checking contents of 'data' directory ... OK
* checking data for non-ASCII characters ... OK
* checking data for ASCII and uncompressed saves ... OK
* checking files in 'vignettes' ... OK
* checking examples ...
** running examples for arch 'i386' ... OK
** running examples for arch 'x64' ... OK
* checking for unstated dependencies in vignettes ... OK
* checking package vignettes in 'inst/doc' ... OK
* checking running R code from vignettes ... SKIPPED
* checking re-building of vignette outputs ... SKIPPED
* checking PDF version of manual ... OK
* DONE

Status: 2 NOTEs
See
  'C:/Users/biocbuild/bbs-3.12-bioc/meat/BaseSpaceR.Rcheck/00check.log'
for details.



Installation output

BaseSpaceR.Rcheck/00install.out

##############################################################################
##############################################################################
###
### Running command:
###
###   C:\cygwin\bin\curl.exe -O https://malbec1.bioconductor.org/BBS/3.12/bioc/src/contrib/BaseSpaceR_1.33.0.tar.gz && rm -rf BaseSpaceR.buildbin-libdir && mkdir BaseSpaceR.buildbin-libdir && C:\Users\biocbuild\bbs-3.12-bioc\R\bin\R.exe CMD INSTALL --merge-multiarch --build --library=BaseSpaceR.buildbin-libdir BaseSpaceR_1.33.0.tar.gz && C:\Users\biocbuild\bbs-3.12-bioc\R\bin\R.exe CMD INSTALL BaseSpaceR_1.33.0.zip && rm BaseSpaceR_1.33.0.tar.gz BaseSpaceR_1.33.0.zip
###
##############################################################################
##############################################################################


  % Total    % Received % Xferd  Average Speed   Time    Time     Time  Current
                                 Dload  Upload   Total   Spent    Left  Speed

  0     0    0     0    0     0      0      0 --:--:-- --:--:-- --:--:--     0
100  272k  100  272k    0     0  6768k      0 --:--:-- --:--:-- --:--:-- 7563k

install for i386

* installing *source* package 'BaseSpaceR' ...
** using staged installation
** R
** data
** inst
** byte-compile and prepare package for lazy loading
** help
*** installing help indices
  converting help for package 'BaseSpaceR'
    finding HTML links ... done
    AppAuth-class                           html  
    AppResults-class                        html  
    AppSessionAuth                          html  
    AppSessions-class                       html  
    BaseSpaceR-package                      html  
    Coverage                                html  
    Error                                   html  
    Files-class                             html  
    FilesExtra                              html  
    Genomes-class                           html  
    Projects-class                          html  
    Response-class                          html  
    Runs-class                              html  
    Samples-class                           html  
    ServiceURI-class                        html  
    Users-class                             html  
    Variants                                html  
    data-aAuth                              html  
    private_methods                         html  
** building package indices
** installing vignettes
** testing if installed package can be loaded from temporary location
** testing if installed package can be loaded from final location
** testing if installed package keeps a record of temporary installation path

install for x64

* installing *source* package 'BaseSpaceR' ...
** testing if installed package can be loaded
* MD5 sums
packaged installation of 'BaseSpaceR' as BaseSpaceR_1.33.0.zip
* DONE (BaseSpaceR)
* installing to library 'C:/Users/biocbuild/bbs-3.12-bioc/R/library'
package 'BaseSpaceR' successfully unpacked and MD5 sums checked

Tests output


Example timings

BaseSpaceR.Rcheck/examples_i386/BaseSpaceR-Ex.timings

nameusersystemelapsed
AppAuth-class0.340.111.72
AppResults-class000
AppSessionAuth000
AppSessions-class000
Coverage0.020.000.01
Error000
Files-class0.110.000.65
FilesExtra0.090.020.64
Genomes-class0.140.031.08
Projects-class0.140.021.11
Response-class000
Runs-class0.170.002.52
Samples-class0.140.001.85
ServiceURI-class000
Users-class0.090.000.83
Variants0.060.000.72
data-aAuth0.050.000.14

BaseSpaceR.Rcheck/examples_x64/BaseSpaceR-Ex.timings

nameusersystemelapsed
AppAuth-class0.330.101.04
AppResults-class0.020.000.02
AppSessionAuth000
AppSessions-class000
Coverage0.020.000.02
Error000
Files-class0.080.011.13
FilesExtra0.120.000.62
Genomes-class0.110.021.02
Projects-class0.110.011.09
Response-class0.020.000.02
Runs-class0.180.023.87
Samples-class0.220.002.50
ServiceURI-class000
Users-class0.030.000.45
Variants0.100.000.69
data-aAuth0.030.020.16