Back to Multiple platform build/check report for BioC 3.12
A[B]CDEFGHIJKLMNOPQRSTUVWXYZ

BUILD report for BLMA on tokay1

This page was generated on 2020-08-07 12:11:48 -0400 (Fri, 07 Aug 2020).

TO THE DEVELOPERS/MAINTAINERS OF THE BLMA PACKAGE: Please make sure to use the following settings in order to reproduce any error or warning you see on this page.
Package 187/1882HostnameOS / ArchINSTALLBUILDCHECKBUILD BIN
BLMA 1.13.3
Hung Nguyen
Snapshot Date: 2020-08-06 14:50:46 -0400 (Thu, 06 Aug 2020)
URL: https://git.bioconductor.org/packages/BLMA
Branch: master
Last Commit: 959eb20
Last Changed Date: 2020-06-24 13:42:38 -0400 (Wed, 24 Jun 2020)
malbec1 Linux (Ubuntu 18.04.4 LTS) / x86_64  OK  OK  OK UNNEEDED, same version exists in internal repository
tokay1 Windows Server 2012 R2 Standard / x64  OK [ OK ] OK  OK UNNEEDED, same version exists in internal repository
merida1 macOS 10.14.6 Mojave / x86_64  OK  OK  OK  OK UNNEEDED, same version exists in internal repository

Summary

Package: BLMA
Version: 1.13.3
Command: chmod a+r BLMA -R && C:\Users\biocbuild\bbs-3.12-bioc\R\bin\R.exe CMD build --keep-empty-dirs --no-resave-data BLMA
StartedAt: 2020-08-06 21:39:58 -0400 (Thu, 06 Aug 2020)
EndedAt: 2020-08-06 21:45:01 -0400 (Thu, 06 Aug 2020)
EllapsedTime: 303.1 seconds
RetCode: 0
Status:  OK  
PackageFile: BLMA_1.13.3.tar.gz
PackageFileSize: 2.707 MiB

Command output

##############################################################################
##############################################################################
###
### Running command:
###
###   chmod a+r BLMA -R && C:\Users\biocbuild\bbs-3.12-bioc\R\bin\R.exe CMD build --keep-empty-dirs --no-resave-data BLMA
###
##############################################################################
##############################################################################


* checking for file 'BLMA/DESCRIPTION' ... OK
* preparing 'BLMA':
* checking DESCRIPTION meta-information ... OK
* installing the package to build vignettes
* creating vignettes ... OK
* checking for LF line-endings in source and make files and shell scripts
* checking for empty or unneeded directories
* looking to see if a 'data/datalist' file should be added
* building 'BLMA_1.13.3.tar.gz'