Back to Multiple platform build/check report for BioC 3.12
A[B]CDEFGHIJKLMNOPQRSTUVWXYZ

BUILD report for BHC on tokay1

This page was generated on 2020-08-11 11:37:45 -0400 (Tue, 11 Aug 2020).

TO THE DEVELOPERS/MAINTAINERS OF THE BHC PACKAGE: Please make sure to use the following settings in order to reproduce any error or warning you see on this page.
Package 136/1885HostnameOS / ArchINSTALLBUILDCHECKBUILD BIN
BHC 1.41.0
Rich Savage
Snapshot Date: 2020-08-10 14:50:56 -0400 (Mon, 10 Aug 2020)
URL: https://git.bioconductor.org/packages/BHC
Branch: master
Last Commit: b561cae
Last Changed Date: 2020-04-27 14:22:27 -0400 (Mon, 27 Apr 2020)
malbec1 Linux (Ubuntu 18.04.4 LTS) / x86_64  OK  OK  OK UNNEEDED, same version exists in internal repository
nebbiolo1 Linux (Ubuntu 20.04.1 LTS) / x86_64  OK  OK  NA 
tokay1 Windows Server 2012 R2 Standard / x64  OK [ OK ] OK  OK UNNEEDED, same version exists in internal repository
merida1 macOS 10.14.6 Mojave / x86_64  OK  OK  OK  OK UNNEEDED, same version exists in internal repository

Summary

Package: BHC
Version: 1.41.0
Command: chmod a+r BHC -R && C:\Users\biocbuild\bbs-3.12-bioc\R\bin\R.exe CMD build --keep-empty-dirs --no-resave-data BHC
StartedAt: 2020-08-10 19:29:17 -0400 (Mon, 10 Aug 2020)
EndedAt: 2020-08-10 19:29:51 -0400 (Mon, 10 Aug 2020)
EllapsedTime: 34.4 seconds
RetCode: 0
Status:  OK  
PackageFile: BHC_1.41.0.tar.gz
PackageFileSize: 180.6 KiB

Command output

##############################################################################
##############################################################################
###
### Running command:
###
###   chmod a+r BHC -R && C:\Users\biocbuild\bbs-3.12-bioc\R\bin\R.exe CMD build --keep-empty-dirs --no-resave-data BHC
###
##############################################################################
##############################################################################


* checking for file 'BHC/DESCRIPTION' ... OK
* preparing 'BHC':
* checking DESCRIPTION meta-information ... OK
* cleaning src
* installing the package to build vignettes
* creating vignettes ... OK
* cleaning src
* checking for LF line-endings in source and make files and shell scripts
* checking for empty or unneeded directories
* building 'BHC_1.41.0.tar.gz'
Warning: file 'BHC/configure' did not have execute permissions: corrected