Back to Multiple platform build/check report for BioC 3.12
AB[C]DEFGHIJKLMNOPQRSTUVWXYZ

BUILD BIN report for caOmicsV on tokay1

This page was generated on 2020-08-13 11:39:45 -0400 (Thu, 13 Aug 2020).

TO THE DEVELOPERS/MAINTAINERS OF THE caOmicsV PACKAGE: Please make sure to use the following settings in order to reproduce any error or warning you see on this page.
Package 223/1885HostnameOS / ArchINSTALLBUILDCHECKBUILD BIN
caOmicsV 1.19.0
Henry Zhang
Snapshot Date: 2020-08-12 14:52:00 -0400 (Wed, 12 Aug 2020)
URL: https://git.bioconductor.org/packages/caOmicsV
Branch: master
Last Commit: 2d96ecc
Last Changed Date: 2020-04-27 14:49:25 -0400 (Mon, 27 Apr 2020)
malbec1 Linux (Ubuntu 18.04.4 LTS) / x86_64  OK  OK  WARNINGS UNNEEDED, same version exists in internal repository
nebbiolo1 Linux (Ubuntu 20.04.1 LTS) / x86_64  OK  OK  WARNINGS 
tokay1 Windows Server 2012 R2 Standard / x64  OK  OK  WARNINGS [ OK ]UNNEEDED, same version exists in internal repository
merida1 macOS 10.14.6 Mojave / x86_64  OK  OK  WARNINGS  OK UNNEEDED, same version exists in internal repository

Summary

Package: caOmicsV
Version: 1.19.0
Command: rm -rf caOmicsV.buildbin-libdir && mkdir caOmicsV.buildbin-libdir && C:\Users\biocbuild\bbs-3.12-bioc\R\bin\R.exe CMD INSTALL --merge-multiarch --build --library=caOmicsV.buildbin-libdir caOmicsV_1.19.0.tar.gz
StartedAt: 2020-08-13 08:12:18 -0400 (Thu, 13 Aug 2020)
EndedAt: 2020-08-13 08:13:26 -0400 (Thu, 13 Aug 2020)
EllapsedTime: 68.4 seconds
RetCode: 0
Status:  OK  
PackageFile: caOmicsV_1.19.0.zip
PackageFileSize: 4.849 MiB

Command output

##############################################################################
##############################################################################
###
### Running command:
###
###   rm -rf caOmicsV.buildbin-libdir && mkdir caOmicsV.buildbin-libdir && C:\Users\biocbuild\bbs-3.12-bioc\R\bin\R.exe CMD INSTALL --merge-multiarch --build --library=caOmicsV.buildbin-libdir caOmicsV_1.19.0.tar.gz
###
##############################################################################
##############################################################################



install for i386

* installing *source* package 'caOmicsV' ...
** using staged installation
** R
** data
** demo
** inst
** byte-compile and prepare package for lazy loading
** help
*** installing help indices
  converting help for package 'caOmicsV'
    finding HTML links ... done
    CA_OMICS_ENV                            html  
    CA_OMICS_NAME                           html  
    CA_OMICS_NA_STRING                      html  
    CNVDemoData                             html  
    RNA2miRNA                               html  
    RNASeq                                  html  
    RNASeqDemoData                          html  
    bioMatrixLegend                         html  
    bioNetCircosPlot                        html  
    bioNetLegend                            html  
    biomatrixPlotDemoData                   html  
    bionetPlotDemoData                      html  
    caOmicsV-package                        html  
    convertToZScores                        html  
    drawBioNetNodeBackground                html  
    eraseBioNetNode                         html  
    getBezierCurve                          html  
    getBioMatrixDataRowTop                  html  
    getBioMatrixPlotParameters              html  
    getBioNetNodeLinkLine                   html  
    getBioNetParameters                     html  
    getBioNetPlotLocations                  html  
    getBioNetSamplePlotPosition             html  
    getCaOmicsVColors                       html  
    getCaOmicsVPlotTypes                    html  
    getDefaultNaStrings                     html  
    getHeatmapColorScales                   html  
    getPlotDataSet                          html  
    getPlotOmicsData                        html  
    getPlotSampleData                       html  
    getPlotSummaryData                      html  
    getRelatedPlotData                      html  
    initializeBioMatrixPlot                 html  
    initializeBioNetCircos                  html  
    labelBioNetNodeNames                    html  
    linkBioNetNodes                         html  
    linkBioNetSamples                       html  
    methylDemoData                          html  
    miRNA                                   html  
    miRNADemoData                           html  
    plotBioMatrix                           html  
    plotBioMatrixBars                       html  
    plotBioMatrixBinaryData                 html  
    plotBioMatrixCategoryData               html  
    plotBioMatrixHeatmap                    html  
    plotBioMatrixRowNames                   html  
    plotBioMatrixSampleData                 html  
    plotBioMatrixSampleNames                html  
    plotBioNetBars                          html  
    plotBioNetCircos                        html  
    plotBioNetHeatmap                       html  
    plotBioNetLines                         html  
    plotBioNetPoints                        html  
    plotBioNetPolygons                      html  
    plotHeatmapColorScale                   html  
    resetBioNetNodePlotAreaBoundary         html  
    sampleDemoData                          html  
    setBioMatrixBaseCoordinates             html  
    setBioMatrixPlotArea                    html  
    setBioMatrixPlotParameters              html  
    setBioNetCircosBasePlotPositions        html  
    setBioNetNodeLayout                     html  
    setBioNetPlotAreaBackground             html  
    setBioNetPlotParameters                 html  
    setCaOmicsVColors                       html  
    setDefaultNaStrings                     html  
    showBioMatrixPlotLayout                 html  
    showBioNetNodesLayout                   html  
    showSupportedBioNetCircosPlotType       html  
    sortClinicalData                        html  
    sortOmicsDataByColumn                   html  
    sortOmicsDataByRow                      html  
** building package indices
** installing vignettes
** testing if installed package can be loaded from temporary location
** testing if installed package can be loaded from final location
** testing if installed package keeps a record of temporary installation path

install for x64

* installing *source* package 'caOmicsV' ...
** testing if installed package can be loaded
* MD5 sums
packaged installation of 'caOmicsV' as caOmicsV_1.19.0.zip
* DONE (caOmicsV)