Back to Multiple platform build/check report for BioC 3.12
A[B]CDEFGHIJKLMNOPQRSTUVWXYZ

INSTALL report for bsseq on tokay1

This page was generated on 2020-08-12 11:40:10 -0400 (Wed, 12 Aug 2020).

TO THE DEVELOPERS/MAINTAINERS OF THE bsseq PACKAGE: Please make sure to use the following settings in order to reproduce any error or warning you see on this page.
Package 203/1885HostnameOS / ArchINSTALLBUILDCHECKBUILD BIN
bsseq 1.25.5
Kasper Daniel Hansen
Snapshot Date: 2020-08-11 14:50:16 -0400 (Tue, 11 Aug 2020)
URL: https://git.bioconductor.org/packages/bsseq
Branch: master
Last Commit: f2728b7
Last Changed Date: 2020-06-28 21:21:07 -0400 (Sun, 28 Jun 2020)
malbec1 Linux (Ubuntu 18.04.4 LTS) / x86_64  OK  OK  WARNINGS UNNEEDED, same version exists in internal repository
nebbiolo1 Linux (Ubuntu 20.04.1 LTS) / x86_64  OK  OK  WARNINGS 
tokay1 Windows Server 2012 R2 Standard / x64 [ OK ] OK  WARNINGS  OK UNNEEDED, same version exists in internal repository
merida1 macOS 10.14.6 Mojave / x86_64  OK  OK  WARNINGS  OK UNNEEDED, same version exists in internal repository

Summary

Package: bsseq
Version: 1.25.5
Command: C:\cygwin\bin\curl.exe -O https://malbec1.bioconductor.org/BBS/3.12/bioc/src/contrib/bsseq_1.25.5.tar.gz && rm -rf bsseq.buildbin-libdir && mkdir bsseq.buildbin-libdir && C:\Users\biocbuild\bbs-3.12-bioc\R\bin\R.exe CMD INSTALL --merge-multiarch --build --library=bsseq.buildbin-libdir bsseq_1.25.5.tar.gz && C:\Users\biocbuild\bbs-3.12-bioc\R\bin\R.exe CMD INSTALL bsseq_1.25.5.zip && rm bsseq_1.25.5.tar.gz bsseq_1.25.5.zip
StartedAt: 2020-08-11 18:22:04 -0400 (Tue, 11 Aug 2020)
EndedAt: 2020-08-11 18:24:18 -0400 (Tue, 11 Aug 2020)
EllapsedTime: 133.8 seconds
RetCode: 0
Status:  OK  

Command output

##############################################################################
##############################################################################
###
### Running command:
###
###   C:\cygwin\bin\curl.exe -O https://malbec1.bioconductor.org/BBS/3.12/bioc/src/contrib/bsseq_1.25.5.tar.gz && rm -rf bsseq.buildbin-libdir && mkdir bsseq.buildbin-libdir && C:\Users\biocbuild\bbs-3.12-bioc\R\bin\R.exe CMD INSTALL --merge-multiarch --build --library=bsseq.buildbin-libdir bsseq_1.25.5.tar.gz && C:\Users\biocbuild\bbs-3.12-bioc\R\bin\R.exe CMD INSTALL bsseq_1.25.5.zip && rm bsseq_1.25.5.tar.gz bsseq_1.25.5.zip
###
##############################################################################
##############################################################################


  % Total    % Received % Xferd  Average Speed   Time    Time     Time  Current
                                 Dload  Upload   Total   Spent    Left  Speed

  0     0    0     0    0     0      0      0 --:--:-- --:--:-- --:--:--     0
100 2081k  100 2081k    0     0   9.9M      0 --:--:-- --:--:-- --:--:-- 10.1M

install for i386

* installing *source* package 'bsseq' ...
** using staged installation
** libs
"C:/rtools40/mingw32/bin/"g++  -std=gnu++11 -I"C:/Users/BIOCBU~1/BBS-3~1.12-/R/include" -DNDEBUG  -I'C:/Users/biocbuild/bbs-3.12-bioc/R/library/Rcpp/include' -I'C:/Users/biocbuild/bbs-3.12-bioc/R/library/beachmat/include'   -I"C:/extsoft/include"     -O2 -Wall  -mfpmath=sse -msse2 -mstackrealign -c check_M_and_Cov.cpp -o check_M_and_Cov.o
"C:/rtools40/mingw32/bin/"g++  -std=gnu++11 -I"C:/Users/BIOCBU~1/BBS-3~1.12-/R/include" -DNDEBUG  -I'C:/Users/biocbuild/bbs-3.12-bioc/R/library/Rcpp/include' -I'C:/Users/biocbuild/bbs-3.12-bioc/R/library/beachmat/include'   -I"C:/extsoft/include"     -O2 -Wall  -mfpmath=sse -msse2 -mstackrealign -c init.cpp -o init.o
"C:/rtools40/mingw32/bin/"g++  -std=gnu++11 -I"C:/Users/BIOCBU~1/BBS-3~1.12-/R/include" -DNDEBUG  -I'C:/Users/biocbuild/bbs-3.12-bioc/R/library/Rcpp/include' -I'C:/Users/biocbuild/bbs-3.12-bioc/R/library/beachmat/include'   -I"C:/extsoft/include"     -O2 -Wall  -mfpmath=sse -msse2 -mstackrealign -c utils.cpp -o utils.o
C:/rtools40/mingw32/bin/g++ -shared -s -static-libgcc -o bsseq.dll tmp.def check_M_and_Cov.o init.o utils.o -LC:/extsoft/lib/i386 -LC:/extsoft/lib -LC:/Users/BIOCBU~1/BBS-3~1.12-/R/bin/i386 -lR
installing to C:/Users/biocbuild/bbs-3.12-bioc/meat/bsseq.buildbin-libdir/00LOCK-bsseq/00new/bsseq/libs/i386
** R
** data
** inst
** byte-compile and prepare package for lazy loading
** help
*** installing help indices
  converting help for package 'bsseq'
    finding HTML links ... done
    BS.chr22                                html  
    BSmooth                                 html  
    finding level-2 HTML links ... done

    BSmooth.fstat                           html  
    BSmooth.tstat                           html  
    BSseq-class                             html  
    BSseq                                   html  
    BSseqStat-class                         html  
    BSseqTstat-class                        html  
    FWGRanges-class                         html  
    computeStat                             html  
    data.frame2GRanges                      html  
    dmrFinder                               html  
    findLoci                                html  
    fisherTests                             html  
    getCoverage                             html  
    getMeth                                 html  
    getStats                                html  
    goodnessOfFit                           html  
    hasGRanges-class                        html  
    internals                               html  
    plotRegion                              html  
    read.bismark                            html  
    read.bsmooth                            html  
    read.umtab                              html  
    smoothSds                               html  
** building package indices
** installing vignettes
** testing if installed package can be loaded from temporary location
** testing if installed package can be loaded from final location
** testing if installed package keeps a record of temporary installation path

install for x64

* installing *source* package 'bsseq' ...
** libs
"C:/rtools40/mingw64/bin/"g++  -std=gnu++11 -I"C:/Users/BIOCBU~1/BBS-3~1.12-/R/include" -DNDEBUG  -I'C:/Users/biocbuild/bbs-3.12-bioc/R/library/Rcpp/include' -I'C:/Users/biocbuild/bbs-3.12-bioc/R/library/beachmat/include'   -I"C:/extsoft/include"     -O2 -Wall  -mfpmath=sse -msse2 -mstackrealign -c check_M_and_Cov.cpp -o check_M_and_Cov.o
"C:/rtools40/mingw64/bin/"g++  -std=gnu++11 -I"C:/Users/BIOCBU~1/BBS-3~1.12-/R/include" -DNDEBUG  -I'C:/Users/biocbuild/bbs-3.12-bioc/R/library/Rcpp/include' -I'C:/Users/biocbuild/bbs-3.12-bioc/R/library/beachmat/include'   -I"C:/extsoft/include"     -O2 -Wall  -mfpmath=sse -msse2 -mstackrealign -c init.cpp -o init.o
"C:/rtools40/mingw64/bin/"g++  -std=gnu++11 -I"C:/Users/BIOCBU~1/BBS-3~1.12-/R/include" -DNDEBUG  -I'C:/Users/biocbuild/bbs-3.12-bioc/R/library/Rcpp/include' -I'C:/Users/biocbuild/bbs-3.12-bioc/R/library/beachmat/include'   -I"C:/extsoft/include"     -O2 -Wall  -mfpmath=sse -msse2 -mstackrealign -c utils.cpp -o utils.o
C:/rtools40/mingw64/bin/g++ -shared -s -static-libgcc -o bsseq.dll tmp.def check_M_and_Cov.o init.o utils.o -LC:/extsoft/lib/x64 -LC:/extsoft/lib -LC:/Users/BIOCBU~1/BBS-3~1.12-/R/bin/x64 -lR
installing to C:/Users/biocbuild/bbs-3.12-bioc/meat/bsseq.buildbin-libdir/bsseq/libs/x64
** testing if installed package can be loaded
* MD5 sums
packaged installation of 'bsseq' as bsseq_1.25.5.zip
* DONE (bsseq)
* installing to library 'C:/Users/biocbuild/bbs-3.12-bioc/R/library'
package 'bsseq' successfully unpacked and MD5 sums checked