Back to Multiple platform build/check report for BioC 3.12
A[B]CDEFGHIJKLMNOPQRSTUVWXYZ

BUILD BIN report for ballgown on merida1

This page was generated on 2020-08-10 12:36:05 -0400 (Mon, 10 Aug 2020).

TO THE DEVELOPERS/MAINTAINERS OF THE ballgown PACKAGE: Please make sure to use the following settings in order to reproduce any error or warning you see on this page.
Package 105/1882HostnameOS / ArchINSTALLBUILDCHECKBUILD BIN
ballgown 2.21.0
Jack Fu
Snapshot Date: 2020-08-09 14:51:29 -0400 (Sun, 09 Aug 2020)
URL: https://git.bioconductor.org/packages/ballgown
Branch: master
Last Commit: e02291d
Last Changed Date: 2020-04-27 14:41:54 -0400 (Mon, 27 Apr 2020)
malbec1 Linux (Ubuntu 18.04.4 LTS) / x86_64  OK  OK  OK UNNEEDED, same version exists in internal repository
nebbiolo1 Linux (Ubuntu 20.04.1 LTS) / x86_64  OK  OK  OK 
tokay1 Windows Server 2012 R2 Standard / x64  OK  OK  OK  OK UNNEEDED, same version exists in internal repository
merida1 macOS 10.14.6 Mojave / x86_64  OK  OK  OK [ OK ]UNNEEDED, same version exists in internal repository

Summary

Package: ballgown
Version: 2.21.0
Command: rm -rf ballgown.buildbin-libdir && mkdir ballgown.buildbin-libdir && /Users/biocbuild/BBS/utils/build-universal.sh ballgown_2.21.0.tar.gz /Library/Frameworks/R.framework/Versions/Current/Resources/bin/R ballgown.buildbin-libdir
StartedAt: 2020-08-10 06:40:59 -0400 (Mon, 10 Aug 2020)
EndedAt: 2020-08-10 06:41:47 -0400 (Mon, 10 Aug 2020)
EllapsedTime: 48.5 seconds
RetCode: 0
Status:  OK 
PackageFile: ballgown_2.21.0.tgz
PackageFileSize: 3.214 MiB

Command output

##############################################################################
##############################################################################
###
### Running command:
###
###   rm -rf ballgown.buildbin-libdir && mkdir ballgown.buildbin-libdir && /Users/biocbuild/BBS/utils/build-universal.sh ballgown_2.21.0.tar.gz /Library/Frameworks/R.framework/Versions/Current/Resources/bin/R ballgown.buildbin-libdir
###
##############################################################################
##############################################################################


>>>>>>> 
>>>>>>> INSTALLATION WITH 'R CMD INSTALL --preclean --no-multiarch --library=ballgown.buildbin-libdir ballgown_2.21.0.tar.gz'
>>>>>>> 

* installing *source* package ‘ballgown’ ...
** using staged installation
** R
** data
** inst
** byte-compile and prepare package for lazy loading
Creating a new generic function for ‘structure’ in package ‘ballgown’
** help
*** installing help indices
** building package indices
** installing vignettes
** testing if installed package can be loaded from temporary location
** testing if installed package can be loaded from final location
** testing if installed package keeps a record of temporary installation path
* DONE (ballgown)