Back to Multiple platform build/check report for BioC 3.12
A[B]CDEFGHIJKLMNOPQRSTUVWXYZ

BUILD report for BBCAnalyzer on malbec1

This page was generated on 2020-09-19 10:15:00 -0400 (Sat, 19 Sep 2020).

TO THE DEVELOPERS/MAINTAINERS OF THE BBCAnalyzer PACKAGE: Please make sure to use the following settings in order to reproduce any error or warning you see on this page.
Package 122/1912HostnameOS / ArchINSTALLBUILDCHECKBUILD BIN
BBCAnalyzer 1.19.0
Sarah Sandmann
Snapshot Date: 2020-09-18 14:43:25 -0400 (Fri, 18 Sep 2020)
URL: https://git.bioconductor.org/packages/BBCAnalyzer
Branch: master
Last Commit: ce4b1cf
Last Changed Date: 2020-04-27 14:50:41 -0400 (Mon, 27 Apr 2020)
malbec1 Linux (Ubuntu 18.04.4 LTS) / x86_64  OK [ OK ] OK UNNEEDED, same version exists in internal repository
nebbiolo1 Linux (Ubuntu 20.04.1 LTS) / x86_64  OK  OK  OK 
tokay1 Windows Server 2012 R2 Standard / x64  OK  OK  WARNINGS  OK UNNEEDED, same version exists in internal repository
riesling1 Windows Server 2019 Standard / x64  OK  OK  WARNINGS  OK 
merida1 macOS 10.14.6 Mojave / x86_64  OK  OK  OK  OK UNNEEDED, same version exists in internal repository

Summary

Package: BBCAnalyzer
Version: 1.19.0
Command: /home/biocbuild/bbs-3.12-bioc/R/bin/R CMD build --keep-empty-dirs --no-resave-data BBCAnalyzer
StartedAt: 2020-09-18 19:58:12 -0400 (Fri, 18 Sep 2020)
EndedAt: 2020-09-18 20:07:50 -0400 (Fri, 18 Sep 2020)
EllapsedTime: 578.4 seconds
RetCode: 0
Status:  OK 
PackageFile: BBCAnalyzer_1.19.0.tar.gz
PackageFileSize: 2.123 MiB

Command output

##############################################################################
##############################################################################
###
### Running command:
###
###   /home/biocbuild/bbs-3.12-bioc/R/bin/R CMD build --keep-empty-dirs --no-resave-data BBCAnalyzer
###
##############################################################################
##############################################################################


* checking for file ‘BBCAnalyzer/DESCRIPTION’ ... OK
* preparing ‘BBCAnalyzer’:
* checking DESCRIPTION meta-information ... OK
* installing the package to process help pages
* saving partial Rd database
* creating vignettes ... OK
* checking for LF line-endings in source and make files and shell scripts
* checking for empty or unneeded directories
* building ‘BBCAnalyzer_1.19.0.tar.gz’