Back to Multiple platform build/check report for BioC 3.12
AB[C]DEFGHIJKLMNOPQRSTUVWXYZ

INSTALL report for ChIPseeker on malbec1

This page was generated on 2020-10-24 10:56:33 -0400 (Sat, 24 Oct 2020).

TO THE DEVELOPERS/MAINTAINERS OF THE ChIPseeker PACKAGE: Please make sure to use the following settings in order to reproduce any error or warning you see on this page.
Package 288/1974HostnameOS / ArchINSTALLBUILDCHECKBUILD BIN
ChIPseeker 1.25.0
Guangchuang Yu
Snapshot Date: 2020-10-23 14:40:36 -0400 (Fri, 23 Oct 2020)
URL: https://git.bioconductor.org/packages/ChIPseeker
Branch: master
Last Commit: 3e79cb7
Last Changed Date: 2020-10-07 11:57:14 -0400 (Wed, 07 Oct 2020)
malbec1 Linux (Ubuntu 18.04.4 LTS) / x86_64 [ OK ] OK  OK UNNEEDED, same version exists in internal repository
nebbiolo1 Linux (Ubuntu 20.04.1 LTS) / x86_64  OK  OK  OK 
tokay1 Windows Server 2012 R2 Standard / x64  OK  OK  WARNINGS  OK UNNEEDED, same version exists in internal repository
riesling1 Windows Server 2019 Standard / x64  OK  OK  WARNINGS  OK 
merida1 macOS 10.14.6 Mojave / x86_64  OK  OK  OK  OK UNNEEDED, same version exists in internal repository

Summary

Package: ChIPseeker
Version: 1.25.0
Command: /home/biocbuild/bbs-3.12-bioc/R/bin/R CMD INSTALL ChIPseeker
StartedAt: 2020-10-23 17:32:11 -0400 (Fri, 23 Oct 2020)
EndedAt: 2020-10-23 17:33:07 -0400 (Fri, 23 Oct 2020)
EllapsedTime: 55.6 seconds
RetCode: 0
Status:  OK 

Command output

##############################################################################
##############################################################################
###
### Running command:
###
###   /home/biocbuild/bbs-3.12-bioc/R/bin/R CMD INSTALL ChIPseeker
###
##############################################################################
##############################################################################


* installing to library ‘/home/biocbuild/bbs-3.12-bioc/R/library’
* installing *source* package ‘ChIPseeker’ ...
** using staged installation
** R
** data
** inst
** byte-compile and prepare package for lazy loading
** help
*** installing help indices
** building package indices
** installing vignettes
** testing if installed package can be loaded from temporary location
** testing if installed package can be loaded from final location
** testing if installed package keeps a record of temporary installation path
* DONE (ChIPseeker)