Back to Multiple platform build/check report for BioC 3.12
ABCD[E]FGHIJKLMNOPQRSTUVWXYZ

Multiple platform build/check report for BioC 3.12

Results for easyRNASeq

This page was generated on 2020-10-31 12:01:47 -0400 (Sat, 31 Oct 2020).

Package 522/1974HostnameOS / ArchINSTALLBUILDCHECKBUILD BIN
easyRNASeq 2.26.0
Nicolas Delhomme
Snapshot Date: 2020-10-30 14:46:53 -0400 (Fri, 30 Oct 2020)
URL: https://git.bioconductor.org/packages/easyRNASeq
Branch: RELEASE_3_12
Last Commit: e3ce60a
Last Changed Date: 2020-10-27 10:44:21 -0400 (Tue, 27 Oct 2020)
malbec1 Linux (Ubuntu 18.04.4 LTS) / x86_64  OK  ERROR  skipped 
nebbiolo1 Linux (Ubuntu 20.04.1 LTS) / x86_64  OK  OK  OK 
tokay1 Windows Server 2012 R2 Standard / x64  OK  ERROR  skipped  skipped 
merida1 macOS 10.14.6 Mojave / x86_64  OK  OK  OK  OK UNNEEDED, same version exists in internal repository