Back to Multiple platform build/check report for BioC 3.12
[A]BCDEFGHIJKLMNOPQRSTUVWXYZ

INSTALL report for ALPS on tokay1

This page was generated on 2020-08-06 12:10:26 -0400 (Thu, 06 Aug 2020).

TO THE DEVELOPERS/MAINTAINERS OF THE ALPS PACKAGE: Please make sure to use the following settings in order to reproduce any error or warning you see on this page.
Package 45/1882HostnameOS / ArchINSTALLBUILDCHECKBUILD BIN
ALPS 1.3.0
Venu Thatikonda
Snapshot Date: 2020-08-05 14:50:59 -0400 (Wed, 05 Aug 2020)
URL: https://git.bioconductor.org/packages/ALPS
Branch: master
Last Commit: 10e65ff
Last Changed Date: 2020-04-27 15:31:37 -0400 (Mon, 27 Apr 2020)
malbec1 Linux (Ubuntu 18.04.4 LTS) / x86_64  OK  OK  OK UNNEEDED, same version exists in internal repository
tokay1 Windows Server 2012 R2 Standard / x64 [ OK ] OK  OK  OK UNNEEDED, same version exists in internal repository
merida1 macOS 10.14.6 Mojave / x86_64  OK  OK  OK  OK UNNEEDED, same version exists in internal repository

Summary

Package: ALPS
Version: 1.3.0
Command: C:\Users\biocbuild\bbs-3.12-bioc\R\bin\R.exe --arch x64 CMD INSTALL --no-multiarch ALPS
StartedAt: 2020-08-05 18:57:47 -0400 (Wed, 05 Aug 2020)
EndedAt: 2020-08-05 18:59:01 -0400 (Wed, 05 Aug 2020)
EllapsedTime: 74.0 seconds
RetCode: 0
Status:  OK  

Command output

##############################################################################
##############################################################################
###
### Running command:
###
###   C:\Users\biocbuild\bbs-3.12-bioc\R\bin\R.exe --arch x64 CMD INSTALL --no-multiarch ALPS
###
##############################################################################
##############################################################################


* installing to library 'C:/Users/biocbuild/bbs-3.12-bioc/R/library'
* installing *source* package 'ALPS' ...
** using staged installation
** R
** inst
** byte-compile and prepare package for lazy loading
** help
*** installing help indices
  converting help for package 'ALPS'
    finding HTML links ... done
    ALPS-package                            html  
    get_genomic_annotations                 html  
    get_variable_regions                    html  
    merge_GR                                html  
    multiBigwig_summary                     html  
    pipe                                    html  
    plot_browser_tracks                     html  
    plot_correlation                        html  
    plot_enrichments                        html  
    plot_genomic_annotations                html  
    plot_motif_logo                         html  
    process_homer                           html  
    process_jaspar                          html  
    process_meme                            html  
    process_pfm                             html  
    process_transfac                        html  
** building package indices
** installing vignettes
** testing if installed package can be loaded from temporary location
** testing if installed package can be loaded from final location
** testing if installed package keeps a record of temporary installation path
* DONE (ALPS)
Making 'packages.html' ... done