Back to Multiple platform build/check report for BioC 3.12
ABCDEFGHIJKLMNOPQ[R]STUVWXYZ

INSTALL report for RCAS on tokay1

This page was generated on 2020-08-07 12:09:50 -0400 (Fri, 07 Aug 2020).

TO THE DEVELOPERS/MAINTAINERS OF THE RCAS PACKAGE: Please make sure to use the following settings in order to reproduce any error or warning you see on this page.
Package 1404/1882HostnameOS / ArchINSTALLBUILDCHECKBUILD BIN
RCAS 1.15.0
Bora Uyar
Snapshot Date: 2020-08-06 14:50:46 -0400 (Thu, 06 Aug 2020)
URL: https://git.bioconductor.org/packages/RCAS
Branch: master
Last Commit: ec2d4f7
Last Changed Date: 2020-04-27 14:59:40 -0400 (Mon, 27 Apr 2020)
malbec1 Linux (Ubuntu 18.04.4 LTS) / x86_64  OK  OK  OK UNNEEDED, same version exists in internal repository
tokay1 Windows Server 2012 R2 Standard / x64 [ OK ] OK  OK  OK UNNEEDED, same version exists in internal repository
merida1 macOS 10.14.6 Mojave / x86_64  OK  OK  OK  OK UNNEEDED, same version exists in internal repository

Summary

Package: RCAS
Version: 1.15.0
Command: C:\cygwin\bin\curl.exe -O https://malbec1.bioconductor.org/BBS/3.12/bioc/src/contrib/RCAS_1.15.0.tar.gz && rm -rf RCAS.buildbin-libdir && mkdir RCAS.buildbin-libdir && C:\Users\biocbuild\bbs-3.12-bioc\R\bin\R.exe CMD INSTALL --merge-multiarch --build --library=RCAS.buildbin-libdir RCAS_1.15.0.tar.gz && C:\Users\biocbuild\bbs-3.12-bioc\R\bin\R.exe CMD INSTALL RCAS_1.15.0.zip && rm RCAS_1.15.0.tar.gz RCAS_1.15.0.zip
StartedAt: 2020-08-06 18:34:40 -0400 (Thu, 06 Aug 2020)
EndedAt: 2020-08-06 18:36:04 -0400 (Thu, 06 Aug 2020)
EllapsedTime: 83.8 seconds
RetCode: 0
Status:  OK  

Command output

##############################################################################
##############################################################################
###
### Running command:
###
###   C:\cygwin\bin\curl.exe -O https://malbec1.bioconductor.org/BBS/3.12/bioc/src/contrib/RCAS_1.15.0.tar.gz && rm -rf RCAS.buildbin-libdir && mkdir RCAS.buildbin-libdir && C:\Users\biocbuild\bbs-3.12-bioc\R\bin\R.exe CMD INSTALL --merge-multiarch --build --library=RCAS.buildbin-libdir RCAS_1.15.0.tar.gz && C:\Users\biocbuild\bbs-3.12-bioc\R\bin\R.exe CMD INSTALL RCAS_1.15.0.zip && rm RCAS_1.15.0.tar.gz RCAS_1.15.0.zip
###
##############################################################################
##############################################################################


  % Total    % Received % Xferd  Average Speed   Time    Time     Time  Current
                                 Dload  Upload   Total   Spent    Left  Speed

  0     0    0     0    0     0      0      0 --:--:-- --:--:-- --:--:--     0
100 1644k  100 1644k    0     0  29.8M      0 --:--:-- --:--:-- --:--:-- 32.1M

install for i386

* installing *source* package 'RCAS' ...
** using staged installation
** R
** data
*** moving datasets to lazyload DB
** inst
** byte-compile and prepare package for lazy loading
** help
*** installing help indices
  converting help for package 'RCAS'
    finding HTML links ... done
    calculateCoverageProfile                html  
    calculateCoverageProfileFromTxdb        html  
    calculateCoverageProfileList            html  
    calculateCoverageProfileListFromTxdb    html  
    checkSeqDb                              html  
    createControlRegions                    html  
    createDB                                html  
    createOrthologousGeneSetList            html  
    deleteSampleDataFromDB                  html  
    discoverFeatureSpecificMotifs           html  
    extractSequences                        html  
    findDifferentialMotifs                  html  
    findEnrichedFunctions                   html  
    generateKmers                           html  
    getFeatureBoundaryCoverage              html  
    getFeatureBoundaryCoverageBin           html  
    getFeatureBoundaryCoverageMulti         html  
    getIntervalOverlapMatrix                html  
    getMotifSummaryTable                    html  
    getTargetedGenesTable                   html  
    getTxdbFeatures                         html  
    getTxdbFeaturesFromGRanges              html  
    gff                                     html  
    importBed                               html  
    importBedFiles                          html  
    importGtf                               html  
    parseMsigdb                             html  
    plotFeatureBoundaryCoverage             html  
    printMsigdbDataset                      html  
    queryGff                                html  
    queryRegions                            html  
    retrieveOrthologs                       html  
    runGSEA                                 html  
    runMotifDiscovery                       html  
    runMotifRG                              html  
    runReport                               html  
    runReportMetaAnalysis                   html  
    runTopGO                                html  
    summarizeDatabaseContent                html  
    summarizeQueryRegions                   html  
    summarizeQueryRegionsMulti              html  
** building package indices
** installing vignettes
** testing if installed package can be loaded from temporary location
** testing if installed package can be loaded from final location
** testing if installed package keeps a record of temporary installation path

install for x64

* installing *source* package 'RCAS' ...
** testing if installed package can be loaded
* MD5 sums
packaged installation of 'RCAS' as RCAS_1.15.0.zip
* DONE (RCAS)
* installing to library 'C:/Users/biocbuild/bbs-3.12-bioc/R/library'
package 'RCAS' successfully unpacked and MD5 sums checked